BEGIN:VCALENDAR
VERSION:2.0
PRODID:-//Blazin’ Trails Bottle Babies - ECPv6.15.20//NONSGML v1.0//EN
CALSCALE:GREGORIAN
METHOD:PUBLISH
X-WR-CALNAME:Blazin’ Trails Bottle Babies
X-ORIGINAL-URL:https://blazintrailsbottlebabies.org
X-WR-CALDESC:Events for Blazin’ Trails Bottle Babies
REFRESH-INTERVAL;VALUE=DURATION:PT1H
X-Robots-Tag:noindex
X-PUBLISHED-TTL:PT1H
BEGIN:VTIMEZONE
TZID:America/New_York
BEGIN:DAYLIGHT
TZOFFSETFROM:-0500
TZOFFSETTO:-0400
TZNAME:EDT
DTSTART:20240310T070000
END:DAYLIGHT
BEGIN:STANDARD
TZOFFSETFROM:-0400
TZOFFSETTO:-0500
TZNAME:EST
DTSTART:20241103T060000
END:STANDARD
BEGIN:DAYLIGHT
TZOFFSETFROM:-0500
TZOFFSETTO:-0400
TZNAME:EDT
DTSTART:20250309T070000
END:DAYLIGHT
BEGIN:STANDARD
TZOFFSETFROM:-0400
TZOFFSETTO:-0500
TZNAME:EST
DTSTART:20251102T060000
END:STANDARD
BEGIN:DAYLIGHT
TZOFFSETFROM:-0500
TZOFFSETTO:-0400
TZNAME:EDT
DTSTART:20260308T070000
END:DAYLIGHT
BEGIN:STANDARD
TZOFFSETFROM:-0400
TZOFFSETTO:-0500
TZNAME:EST
DTSTART:20261101T060000
END:STANDARD
BEGIN:DAYLIGHT
TZOFFSETFROM:-0500
TZOFFSETTO:-0400
TZNAME:EDT
DTSTART:20270314T070000
END:DAYLIGHT
BEGIN:STANDARD
TZOFFSETFROM:-0400
TZOFFSETTO:-0500
TZNAME:EST
DTSTART:20271107T060000
END:STANDARD
END:VTIMEZONE
BEGIN:VEVENT
DTSTART;TZID=America/New_York:20260206T180000
DTEND;TZID=America/New_York:20260206T190000
DTSTAMP:20260421T134331
CREATED:20251228T190050Z
LAST-MODIFIED:20260116T143631Z
UID:1015-1770400800-1770404400@blazintrailsbottlebabies.org
SUMMARY:Relax and Unwind at Nourish Studios Puppy Yoga
DESCRIPTION:Relaxing Puppy Yoga @ Nourish Studios\nFriday Night | 6:00 PM | Wake Forest \nUnwind at the end of the week with the perfect mix of movement\, mindfulness\, and puppy love. 🧘‍♀️🐶 \nJoin Blazin’ Trails Bottle Babies for a Relaxing Puppy Yoga class at Nourish Studios in Wake Forest. This gentle\, feel-good flow is designed to help you slow down\, breathe deeply\, and reset—while adorable\, adoptable puppies roam the room offering snuggles\, smiles\, and the occasional yoga “assist.” \nExpect soft movement\, calming energy\, and plenty of puppy cuddles woven throughout the class. Whether you’re a seasoned yogi or just here for the puppies (we get it)\, this evening is all about relaxation\, connection\, and joy. \n✨ End your week grounded.🐾 Leave with a full heart.❤️ And maybe fall in love with a puppy along the way. \nCome stretch\, snuggle\, and soak in the calm—we can’t wait to see you on the mat.
URL:https://blazintrailsbottlebabies.org/event/relax-and-unwind-at-nourish-studios-puppy-yoga/
LOCATION:Nourish Studios\, 101 N. White St\, Wake Forest\, North Carolina\, 27587
CATEGORIES:Fundraising Event
ATTACH;FMTTYPE=image/jpeg:https://blazintrailsbottlebabies.org/wp-content/uploads/2025/12/unnamed-7.jpg
END:VEVENT
BEGIN:VEVENT
DTSTART;TZID=America/New_York:20260125T103000
DTEND;TZID=America/New_York:20260125T120000
DTSTAMP:20260421T134331
CREATED:20251015T144332Z
LAST-MODIFIED:20251015T144332Z
UID:760-1769337000-1769342400@blazintrailsbottlebabies.org
SUMMARY:Puppy Yoga at Crank Arm Raleigh
DESCRIPTION:Flow through your poses while puppies prance around your mat—this is yoga like you’ve never experienced it before! Blazin’ Trails Bottle Babies is teaming up with Crank Arm Brewing for a special Puppy Yoga session that combines movement\, mindfulness\, and a whole lot of puppy love. \nExpect gentle yoga\, adorable adoptable pups\, and lots of feel-good vibes. Stick around after class to enjoy a craft beer and meet the puppies up close! \nSpace is limited and advance tickets are required. These events sell out fast\, so don’t wait! \nGet Tickets Here
URL:https://blazintrailsbottlebabies.org/event/puppy-yoga-at-crank-arm-raleigh-3/
LOCATION:Crank Arm Brewing Company – Raleigh\, 319 W Davie St\, Raleigh\, 27601\, United States
CATEGORIES:Fundraising Event
ATTACH;FMTTYPE=image/avif:https://blazintrailsbottlebabies.org/wp-content/uploads/2025/07/highres_527985746-2.avif
END:VEVENT
BEGIN:VEVENT
DTSTART;TZID=America/New_York:20251213T140000
DTEND;TZID=America/New_York:20251213T160000
DTSTAMP:20260421T134331
CREATED:20251203T211217Z
LAST-MODIFIED:20251203T211217Z
UID:891-1765634400-1765641600@blazintrailsbottlebabies.org
SUMMARY:Christmas at Planet Peace Farm with Santa
DESCRIPTION:Celebrate the season with us at Santa Paws at Planet Peace Farm on Saturday\, December 13 from 2–4 PM—a cozy\, magical afternoon packed with holiday cheer! \nCome snap festive photos with Santa & Mrs. Claus\, their elves\, adoptable BTBB puppies\, and the beloved Planet Peace animals. Warm up with hot chocolate\, apple cider\, or tea\, then gather around the campfire to roast marshmallows and enjoy the farm’s whimsical holiday decorations. Expect smiles\, twinkle lights\, and the kind of feel-good fun that actually makes your camera roll worth scrolling. \nIncluded with admission: \n\n\nPhotos with Santa & Mrs. Claus\, elves\, puppies\, and farm animals \n\n\nHot chocolate\, apple cider\, and tea \n\n\nMarshmallow roasting by the campfire \n\n\nPlay area fun \n\n\nAdmission: \n\n\nThrough Dec 9: $5 per person \n\n\nAfter Dec 9: $10 per person \n\n\nFree for toddlers under 2 and seniors over 65 \n\n\n>>> RSVP PLEASE <<< \nLocation: Planet Peace Farm (Raleigh—near Knightdale and I-540)Planet Peace Farm is an all-volunteer community organization\, and your visit supports animals in a big way: 30% of proceeds benefit Blazin’ Trails Bottle Babies (Raleigh\, NC)\, with the remaining funds helping provide care for the Planet Peace animals and the farm. \nBring your holiday spirit—leave with memories (and maybe a puppy love connection). 🎄🐾
URL:https://blazintrailsbottlebabies.org/event/christmas-at-planet-peace-farm-with-santa/
LOCATION:Planet Peace Farm\, 6121 Forestville Rd\, Raleigh\, NC
CATEGORIES:Adoptable Puppy Meet n Greet,Community Events,Fundraising Event
ATTACH;FMTTYPE=image/jpeg:https://blazintrailsbottlebabies.org/wp-content/uploads/2025/12/586604372_1261483202692670_7029255686740185258_n.jpg
END:VEVENT
BEGIN:VEVENT
DTSTART;TZID=America/New_York:20251207T130000
DTEND;TZID=America/New_York:20251207T150000
DTSTAMP:20260421T134331
CREATED:20251118T050105Z
LAST-MODIFIED:20251207T135945Z
UID:777-1765112400-1765119600@blazintrailsbottlebabies.org
SUMMARY:Pet Photos with Santa at Unleashed Durham
DESCRIPTION:Santa Paws is coming to Unleashed! \nBring your pets\, kids\, and the whole family out for Pet Photos with Santa at:Unleashed\, The Dog & Cat Store of Durham4215 University Dr\, Ste #13\, Durham\, NC \nFor a $20 donation\, you’ll receive a printed\, framed photo on the spot — perfect for gifting or displaying on your mantle all season long. \nFriendly dogs\, cats\, and critters are all welcome (as long as they’re leashed or safely contained)\, and kids are encouraged to jump in the photos too. Come make a sweet holiday memory\, support rescue pets\, and leave with a keepsake you’ll treasure every Christmas.
URL:https://blazintrailsbottlebabies.org/event/pet-photos-with-santa-at-unleashed-durham/
LOCATION:Unleashed Durham\, 4215 University Dr\, Ste #13\, Durham\, NC\, 27707
CATEGORIES:Community Events,Fundraising Event
ATTACH;FMTTYPE=image/png:https://blazintrailsbottlebabies.org/wp-content/uploads/2025/11/SANTA-PAWS-11-x-8.5-in-1.png
END:VEVENT
BEGIN:VEVENT
DTSTART;TZID=America/New_York:20251026T103000
DTEND;TZID=America/New_York:20251026T120000
DTSTAMP:20260421T134331
CREATED:20251015T143542Z
LAST-MODIFIED:20251015T143846Z
UID:754-1761474600-1761480000@blazintrailsbottlebabies.org
SUMMARY:Puppy Yoga at Crank Arm Brewing Raleigh
DESCRIPTION:Calling all dog lovers\, yoga newbies\, zen masters\, and people who just really need a beer and a puppy cuddle! \nJoin us for Puppy Yoga at Crank Arm Brewing  — where the downward dogs are real\, and so are the wet noses.  \nExpect:  Gentle yoga flows Adorable rescue puppies roaming freely (and probably climbing on you mid-plank) A complimentary post-yoga beer  (because you earned it) That warm\, fuzzy feeling knowing $20 of your $35 ticket goes to @BlazinTrailsBottleBabies to help orphaned puppies \nWhether you’re a seasoned yogi or just here for the puppy snuggles (no judgment)\, this is the cutest\, furriest way to spend your Sunday morning. \nBring a yoga mat\, an open heart\, and maybe a lint roller.You’ll leave refreshed\, possibly drooled on\, and 100% happier than when you arrived. \n Tickets are limited because puppies (and space). \nGet Tickets Here
URL:https://blazintrailsbottlebabies.org/event/puppy-yoga-at-crank-arm-brewing-raleigh-2/
LOCATION:Crank Arm Brewing Company – Raleigh\, 319 W Davie St\, Raleigh\, 27601\, United States
CATEGORIES:Fundraising Event
ATTACH;FMTTYPE=image/avif:https://blazintrailsbottlebabies.org/wp-content/uploads/2025/07/highres_527985746-2.avif
END:VEVENT
BEGIN:VEVENT
DTSTART;TZID=America/New_York:20250824T103000
DTEND;TZID=America/New_York:20250824T113000
DTSTAMP:20260421T134331
CREATED:20250715T123752Z
LAST-MODIFIED:20250715T123752Z
UID:609-1756031400-1756035000@blazintrailsbottlebabies.org
SUMMARY:Puppy Yoga at Crank Arm Raleigh
DESCRIPTION:Flow through your poses while puppies prance around your mat—this is yoga like you’ve never experienced it before! Blazin’ Trails Bottle Babies is teaming up with Crank Arm Brewing for a special Puppy Yoga session that combines movement\, mindfulness\, and a whole lot of puppy love. \nExpect gentle yoga\, adorable adoptable pups\, and lots of feel-good vibes. Stick around after class to enjoy a craft beer and meet the puppies up close! \nSpace is limited and advance tickets are required. These events sell out fast\, so don’t wait! \n🎟️ Get tickets: https://www.meetup.com/crank-arm-cycling-running-yoga/events/307965716 \nEvery ticket helps support our rescue mission—saving and caring for orphaned newborn puppies. Come for the zen\, stay for the zoomies!
URL:https://blazintrailsbottlebabies.org/event/puppy-yoga-at-crank-arm-raleigh/
LOCATION:Crank Arm Brewing Company – Raleigh\, 319 W Davie St\, Raleigh\, 27601\, United States
CATEGORIES:Fundraising Event
ATTACH;FMTTYPE=image/avif:https://blazintrailsbottlebabies.org/wp-content/uploads/2025/07/highres_527985746-2.avif
END:VEVENT
BEGIN:VEVENT
DTSTART;TZID=America/New_York:20250810T103000
DTEND;TZID=America/New_York:20250810T113000
DTSTAMP:20260421T134331
CREATED:20250715T124010Z
LAST-MODIFIED:20250803T150507Z
UID:612-1754821800-1754825400@blazintrailsbottlebabies.org
SUMMARY:Puppy Yoga at Crank Arm  - Durham
DESCRIPTION:Calling all dog lovers\, yoga newbies\, zen masters\, and people who just really need a beer and a puppy cuddle! \nJoin us for Puppy Yoga at Crank Arm Brewing  — where the downward dogs are real\, and so are the wet noses. 🐶🧘‍♀️🍺 \nExpect: ✨ Gentle yoga flows✨ Adorable rescue puppies roaming freely (and probably climbing on you mid-plank)✨ A complimentary post-yoga beer 🍻 (because you earned it)✨ That warm\, fuzzy feeling knowing $20 of your $35 ticket goes to @BlazinTrailsBottleBabies to help orphaned puppies \nWhether you’re a seasoned yogi or just here for the puppy snuggles (no judgment)\, this is the cutest\, furriest way to spend your Sunday morning. \nBring a yoga mat\, an open heart\, and maybe a lint roller.You’ll leave refreshed\, possibly drooled on\, and 100% happier than when you arrived. \n🎟 Tickets are limited because puppies (and space). \nhttps://www.meetup.com/crank-arm-cycling-running-yoga/events/307969244
URL:https://blazintrailsbottlebabies.org/event/puppy-yoga-at-crank-arm-durham/
LOCATION:Crank Arm Brewing- Durham\, 620 Fernway Ave\, Durham\, North Carolina\, 27701
CATEGORIES:Fundraising Event
ATTACH;FMTTYPE=image/avif:https://blazintrailsbottlebabies.org/wp-content/uploads/2025/07/highres_527985497.avif
END:VEVENT
BEGIN:VEVENT
DTSTART;TZID=America/New_York:20250628T110000
DTEND;TZID=America/New_York:20250628T120000
DTSTAMP:20260421T134331
CREATED:20250520T100603Z
LAST-MODIFIED:20250520T100603Z
UID:459-1751108400-1751112000@blazintrailsbottlebabies.org
SUMMARY:Puppy Yoga - Nourish Studios Wake Forest
DESCRIPTION:Stretch. Smile. Snuggle. Repeat. \nLooking for the ultimate feel-good workout? Join us for Puppy Yoga — a joyful fusion of gentle yoga and playful puppy cuddles! Whether you’re a seasoned yogi or a total beginner\, this class is all about movement\, mindfulness\, and maximum puppy love. \nLed by a professional instructor\, you’ll flow through a light\, beginner-friendly yoga session — while adorable rescue puppies roam\, cuddle\, and climb into your heart (and maybe onto your mat!). Expect downward dogs\, happy babies\, and maybe even a few puppy kisses along the way. 💋🐾 \nThis event isn’t just fun — it’s fundraising with purpose. Every ticket helps support the lifesaving care of orphaned newborn puppies at Blazin’ Trails Bottle Babies\, giving the tiniest rescues a second chance. \n✨ Bring your mat\, bring a friend\, and get ready for the cutest class you’ve ever taken.Because when puppies are involved\, it’s impossible not to smile.
URL:https://blazintrailsbottlebabies.org/event/puppy-yoga-nourish-studios-wake-forest/
LOCATION:Nourish Studios\, 101 N. White St\, Wake Forest\, North Carolina\, 27587
CATEGORIES:Fundraising Event
END:VEVENT
BEGIN:VEVENT
DTSTART;TZID=America/New_York:20250622T103000
DTEND;TZID=America/New_York:20250622T113000
DTSTAMP:20260421T134331
CREATED:20250520T100320Z
LAST-MODIFIED:20250524T192900Z
UID:457-1750588200-1750591800@blazintrailsbottlebabies.org
SUMMARY:Puppy Yoga Crank Arm Raleigh
DESCRIPTION:Calling all dog lovers\, yoga newbies\, zen masters\, and people who just really need a beer and a puppy cuddle! \nJoin us for Puppy Yoga at Crank Arm Brewing on Sunday\, March 23rd at 10:30 AM — where the downward dogs are real\, and so are the wet noses. 🐶🧘‍♀️🍺 \nExpect: ✨ Gentle yoga flows✨ Adorable rescue puppies roaming freely (and probably climbing on you mid-plank)✨ A complimentary post-yoga beer 🍻 (because you earned it)✨ That warm\, fuzzy feeling knowing $20 of your $35 ticket goes to @BlazinTrailsBottleBabies to help orphaned puppies \nWhether you’re a seasoned yogi or just here for the puppy snuggles (no judgment)\, this is the cutest\, furriest way to spend your Sunday morning. \nBring a yoga mat\, an open heart\, and maybe a lint roller.You’ll leave refreshed\, possibly drooled on\, and 100% happier than when you arrived. \n🎟 Tickets are limited because puppies (and space).
URL:https://blazintrailsbottlebabies.org/event/puppy-yoga-crank-arm-raleigh/
LOCATION:Crank Arm Brewing Company – Raleigh\, 319 W Davie St\, Raleigh\, 27601\, United States
CATEGORIES:Fundraising Event
ATTACH;FMTTYPE=image/avif:https://blazintrailsbottlebabies.org/wp-content/uploads/2025/05/highres_527985746.avif
END:VEVENT
BEGIN:VEVENT
DTSTART;TZID=America/New_York:20250614T130000
DTEND;TZID=America/New_York:20250614T150000
DTSTAMP:20260421T134331
CREATED:20250520T095847Z
LAST-MODIFIED:20250520T100727Z
UID:451-1749906000-1749913200@blazintrailsbottlebabies.org
SUMMARY:Pushups for Puppies
DESCRIPTION:Flex for a cause. Sweat for the smallest. \nReady to get moving and make a difference? Push Ups for Puppies is a high-energy fundraising challenge where every rep raises critical funds for orphaned newborn puppies in need of round-the-clock care. \nHere’s how it works:🏋️ You pledge to complete a set number of push ups — 25? 50? 100? You decide!💸 Friends\, family\, coworkers\, or even local businesses sponsor you by donating per push up or with a flat amount.📣 Then you show up\, drop down\, and do your push ups — all in the name of saving lives!🐕‍🦺 Whether you’re a gym regular or just doing your best one push up at a time\, every rep counts. \nWe’ll have a designated push-up zone\, music\, photo ops\, puppies cheering you on\, and plenty of high-fives 🖐️. You can even participate virtually and complete your challenge from anywhere — just don’t forget to tag us when you do it! \nThis isn’t just a workout. It’s a movement.And it’s all for the tiniest\, most vulnerable lives in rescue. 🍼🐶
URL:https://blazintrailsbottlebabies.org/event/pushups-for-puppies/
LOCATION:Fit24\, 919 West Market St\, Smithfield\, North Carolina\, 27577
CATEGORIES:Fundraising Event
ATTACH;FMTTYPE=image/png:https://blazintrailsbottlebabies.org/wp-content/uploads/2025/05/How-Many-Push-Ups-Would-You-Do-To-Save-A-Puppy-2.png
END:VEVENT
BEGIN:VEVENT
DTSTART;TZID=America/New_York:20250608T103000
DTEND;TZID=America/New_York:20250608T113000
DTSTAMP:20260421T134331
CREATED:20250520T095616Z
LAST-MODIFIED:20250524T193015Z
UID:448-1749378600-1749382200@blazintrailsbottlebabies.org
SUMMARY:Puppy Yoga Crank Arm Durham
DESCRIPTION:Calling all dog lovers\, yoga newbies\, zen masters\, and people who just really need a beer and a puppy cuddle! \nJoin us for Puppy Yoga at Crank Arm Brewing on Sunday\, March 23rd at 10:30 AM — where the downward dogs are real\, and so are the wet noses. 🐶🧘‍♀️🍺 \nExpect: ✨ Gentle yoga flows✨ Adorable rescue puppies roaming freely (and probably climbing on you mid-plank)✨ A complimentary post-yoga beer 🍻 (because you earned it)✨ That warm\, fuzzy feeling knowing $20 of your $35 ticket goes to @BlazinTrailsBottleBabies to help orphaned puppies \nWhether you’re a seasoned yogi or just here for the puppy snuggles (no judgment)\, this is the cutest\, furriest way to spend your Sunday morning. \nBring a yoga mat\, an open heart\, and maybe a lint roller.You’ll leave refreshed\, possibly drooled on\, and 100% happier than when you arrived. \n🎟 Tickets are limited because puppies (and space).
URL:https://blazintrailsbottlebabies.org/event/puppy-yoga/
LOCATION:Crank Arm Brewing- Durham\, 620 Fernway Ave\, Durham\, North Carolina\, 27701
CATEGORIES:Fundraising Event
ATTACH;FMTTYPE=image/jpeg:https://blazintrailsbottlebabies.org/wp-content/uploads/2025/05/497932942_122123129456812875_5278376704330102772_n.jpg
END:VEVENT
BEGIN:VEVENT
DTSTART;TZID=America/New_York:20250525T103000
DTEND;TZID=America/New_York:20250525T113000
DTSTAMP:20260421T134331
CREATED:20250428T133117Z
LAST-MODIFIED:20250428T133117Z
UID:385-1748169000-1748172600@blazintrailsbottlebabies.org
SUMMARY:Puppy Yoga at Crank Arm
DESCRIPTION:Breathe in. Stretch out. Snuggle up. 🐾🧘‍♂️Come join Blazin’ Trails Bottle Babies for a heartwarming morning of Puppy Yoga — where every pose is a chance to cuddle an adorable rescue pup! Our tiny yogis will wander freely during class\, offering love\, laughter\, and maybe even a few playful interruptions.Whether you’re here for the savasana snuggles or to find your forever friend\, this is one class you’ll never forget. Every wag\, woof\, and wiggle supports saving more lives! 🌸🐶
URL:https://blazintrailsbottlebabies.org/event/puppy-yoga-at-crank-arm/
LOCATION:Crank Arm Brewing Company – Raleigh\, 319 W Davie St\, Raleigh\, 27601\, United States
CATEGORIES:Fundraising Event
END:VEVENT
BEGIN:VEVENT
DTSTART;TZID=America/New_York:20250427T104500
DTEND;TZID=America/New_York:20250427T120000
DTSTAMP:20260421T134331
CREATED:20250324T152424Z
LAST-MODIFIED:20250324T152424Z
UID:362-1745750700-1745755200@blazintrailsbottlebabies.org
SUMMARY:Puppy Yoga at Crank Arm Brewing Company
DESCRIPTION:Calling all dog lovers\, yoga newbies\, zen masters\, and people who just really need a beer and a puppy cuddle! \nJoin us for Puppy Yoga at Crank Arm Brewing  — where the downward dogs are real\, and so are the wet noses. 🐶🧘‍♀️🍺 \nExpect: ✨ Gentle yoga flows✨ Adorable rescue puppies roaming freely (and probably climbing on you mid-plank)✨ A complimentary post-yoga beer 🍻 (because you earned it)✨ That warm\, fuzzy feeling knowing $20 of your $35 ticket goes to Blazin’ Trails Bottle Babies to help orphaned puppies \nWhether you’re a seasoned yogi or just here for the puppy snuggles (no judgment)\, this is the cutest\, furriest way to spend your Sunday morning. \nBring a yoga mat\, an open heart\, and maybe a lint roller.You’ll leave refreshed\, possibly drooled on\, and 100% happier than when you arrived. \n🎟 Tickets are limited because puppies (and space). \n 
URL:https://blazintrailsbottlebabies.org/event/puppy-yoga-at-crank-arm-brewing-company-2/
LOCATION:Crank Arm Brewing Company – Raleigh\, 319 W Davie St\, Raleigh\, 27601\, United States
CATEGORIES:Fundraising Event
ATTACH;FMTTYPE=image/avif:https://blazintrailsbottlebabies.org/wp-content/uploads/2025/03/600_526479211.avif
END:VEVENT
END:VCALENDAR