BEGIN:VCALENDAR
VERSION:2.0
PRODID:-//Blazin’ Trails Bottle Babies - ECPv6.15.20//NONSGML v1.0//EN
CALSCALE:GREGORIAN
METHOD:PUBLISH
X-WR-CALNAME:Blazin’ Trails Bottle Babies
X-ORIGINAL-URL:https://blazintrailsbottlebabies.org
X-WR-CALDESC:Events for Blazin’ Trails Bottle Babies
REFRESH-INTERVAL;VALUE=DURATION:PT1H
X-Robots-Tag:noindex
X-PUBLISHED-TTL:PT1H
BEGIN:VTIMEZONE
TZID:America/New_York
BEGIN:DAYLIGHT
TZOFFSETFROM:-0500
TZOFFSETTO:-0400
TZNAME:EDT
DTSTART:20250309T070000
END:DAYLIGHT
BEGIN:STANDARD
TZOFFSETFROM:-0400
TZOFFSETTO:-0500
TZNAME:EST
DTSTART:20251102T060000
END:STANDARD
BEGIN:DAYLIGHT
TZOFFSETFROM:-0500
TZOFFSETTO:-0400
TZNAME:EDT
DTSTART:20260308T070000
END:DAYLIGHT
BEGIN:STANDARD
TZOFFSETFROM:-0400
TZOFFSETTO:-0500
TZNAME:EST
DTSTART:20261101T060000
END:STANDARD
BEGIN:DAYLIGHT
TZOFFSETFROM:-0500
TZOFFSETTO:-0400
TZNAME:EDT
DTSTART:20270314T070000
END:DAYLIGHT
BEGIN:STANDARD
TZOFFSETFROM:-0400
TZOFFSETTO:-0500
TZNAME:EST
DTSTART:20271107T060000
END:STANDARD
END:VTIMEZONE
BEGIN:VEVENT
DTSTART;TZID=America/New_York:20260425T110000
DTEND;TZID=America/New_York:20260425T120000
DTSTAMP:20260421T121752
CREATED:20260318T121321Z
LAST-MODIFIED:20260318T121321Z
UID:1397-1777114800-1777118400@blazintrailsbottlebabies.org
SUMMARY:Puppy Yoga at Health House
DESCRIPTION:Come join us for a heartwarming hour of yoga and puppy cuddles at Health House in Rolesville! \nThis special Puppy Yoga class combines gentle movement\, stress relief\, and the joy of spending time with adorable rescue puppies from Blazin’ Trails Bottle Babies. It’s the perfect way to relax\, have fun\, and support a meaningful cause at the same time. \nEvery ticket helps us continue caring for orphaned newborn puppies by providing medical care\, formula\, supplies\, and safe foster homes. \nEvent Details:📍 Health HouseRolesville\, NC \n📅 April 25⏰ 11:00 AM – 12:00 PM \nCome flow with us\, meet some precious puppies\, and help make a difference for babies in rescue. 💛
URL:https://blazintrailsbottlebabies.org/event/puppy-yoga-at-health-house/
LOCATION:Health House\, 101 Rolesville Center Road\, Suite 131\, Rolesville\,\, NC\, 27571
CATEGORIES:Community Events,Fundraising Event
ATTACH;FMTTYPE=image/png:https://blazintrailsbottlebabies.org/wp-content/uploads/2026/03/Add-a-heading.png
END:VEVENT
END:VCALENDAR