BEGIN:VCALENDAR
VERSION:2.0
PRODID:-//Blazin’ Trails Bottle Babies - ECPv6.15.20//NONSGML v1.0//EN
CALSCALE:GREGORIAN
METHOD:PUBLISH
X-WR-CALNAME:Blazin’ Trails Bottle Babies
X-ORIGINAL-URL:https://blazintrailsbottlebabies.org
X-WR-CALDESC:Events for Blazin’ Trails Bottle Babies
REFRESH-INTERVAL;VALUE=DURATION:PT1H
X-Robots-Tag:noindex
X-PUBLISHED-TTL:PT1H
BEGIN:VTIMEZONE
TZID:America/New_York
BEGIN:DAYLIGHT
TZOFFSETFROM:-0500
TZOFFSETTO:-0400
TZNAME:EDT
DTSTART:20250309T070000
END:DAYLIGHT
BEGIN:STANDARD
TZOFFSETFROM:-0400
TZOFFSETTO:-0500
TZNAME:EST
DTSTART:20251102T060000
END:STANDARD
BEGIN:DAYLIGHT
TZOFFSETFROM:-0500
TZOFFSETTO:-0400
TZNAME:EDT
DTSTART:20260308T070000
END:DAYLIGHT
BEGIN:STANDARD
TZOFFSETFROM:-0400
TZOFFSETTO:-0500
TZNAME:EST
DTSTART:20261101T060000
END:STANDARD
BEGIN:DAYLIGHT
TZOFFSETFROM:-0500
TZOFFSETTO:-0400
TZNAME:EDT
DTSTART:20270314T070000
END:DAYLIGHT
BEGIN:STANDARD
TZOFFSETFROM:-0400
TZOFFSETTO:-0500
TZNAME:EST
DTSTART:20271107T060000
END:STANDARD
END:VTIMEZONE
BEGIN:VEVENT
DTSTART;TZID=America/New_York:20260412T130000
DTEND;TZID=America/New_York:20260412T150000
DTSTAMP:20260421T134357
CREATED:20260401T202448Z
LAST-MODIFIED:20260411T231921Z
UID:1430-1775998800-1776006000@blazintrailsbottlebabies.org
SUMMARY:Puppy Paradise- Whisker Junction - Keith's Store
DESCRIPTION:🐾 Join Us for a Puppy Meet & Greet!  Whisker Junction   \nCome spend an afternoon with our adorable adoptable puppies—each one ready to charm their way straight into your heart. Whether you’re dreaming of bringing home a new best friend or simply stopping by for some cuddles\, this is the kind of feel‑good break everyone deserves.  \nPuppy kisses are complimentary. Falling in love is highly encouraged.  \nSettle in with a cozy cup of coffee at Frabjous Café and let the wagging tails work their magic. 
URL:https://blazintrailsbottlebabies.org/event/puppy-paradise-whisker-junction-keiths-store/
LOCATION:Keith’s Store\, 13041 Keith's Store Road\, Wake Forest\, NC
CATEGORIES:Adoptable Puppy Meet n Greet,Community Events,Fundraising Event
ATTACH;FMTTYPE=image/png:https://blazintrailsbottlebabies.org/wp-content/uploads/2026/04/Whisker-Junction2.png
END:VEVENT
END:VCALENDAR