BEGIN:VCALENDAR
VERSION:2.0
PRODID:-//Blazin’ Trails Bottle Babies - ECPv6.15.20//NONSGML v1.0//EN
CALSCALE:GREGORIAN
METHOD:PUBLISH
X-WR-CALNAME:Blazin’ Trails Bottle Babies
X-ORIGINAL-URL:https://blazintrailsbottlebabies.org
X-WR-CALDESC:Events for Blazin’ Trails Bottle Babies
REFRESH-INTERVAL;VALUE=DURATION:PT1H
X-Robots-Tag:noindex
X-PUBLISHED-TTL:PT1H
BEGIN:VTIMEZONE
TZID:America/New_York
BEGIN:DAYLIGHT
TZOFFSETFROM:-0500
TZOFFSETTO:-0400
TZNAME:EDT
DTSTART:20250309T070000
END:DAYLIGHT
BEGIN:STANDARD
TZOFFSETFROM:-0400
TZOFFSETTO:-0500
TZNAME:EST
DTSTART:20251102T060000
END:STANDARD
BEGIN:DAYLIGHT
TZOFFSETFROM:-0500
TZOFFSETTO:-0400
TZNAME:EDT
DTSTART:20260308T070000
END:DAYLIGHT
BEGIN:STANDARD
TZOFFSETFROM:-0400
TZOFFSETTO:-0500
TZNAME:EST
DTSTART:20261101T060000
END:STANDARD
BEGIN:DAYLIGHT
TZOFFSETFROM:-0500
TZOFFSETTO:-0400
TZNAME:EDT
DTSTART:20270314T070000
END:DAYLIGHT
BEGIN:STANDARD
TZOFFSETFROM:-0400
TZOFFSETTO:-0500
TZNAME:EST
DTSTART:20271107T060000
END:STANDARD
END:VTIMEZONE
BEGIN:VEVENT
DTSTART;TZID=America/New_York:20260301T103000
DTEND;TZID=America/New_York:20260301T120000
DTSTAMP:20260421T133316
CREATED:20260224T134713Z
LAST-MODIFIED:20260224T134713Z
UID:1376-1772361000-1772366400@blazintrailsbottlebabies.org
SUMMARY:Crank Arm Durham: PUPPY Yoga
DESCRIPTION:Join us for a yoga session with adoptable puppies at Crank Arm Brewing – DURHAM! \nThis event is $35 and covers your yoga class\, some puppy love\, a $20 donation to Blazin’ Trails Bottle Babies\, and your beer afterwards! \nBlazin’ Trails Bottle Babies rescues and cares for orphaned newborn puppies\, giving them the love and support they need to thrive and find forever homes. Now’s your chance to cuddle these adorable pups while enjoying a fun puppy yoga session! Stretch\, smile\, and soak up the puppy love—all while supporting a great cause!
URL:https://blazintrailsbottlebabies.org/event/crank-arm-durham-puppy-yoga/
LOCATION:Crank Arm Brewing- Durham\, 620 Fernway Ave\, Durham\, North Carolina\, 27701
CATEGORIES:Adoptable Puppy Meet n Greet,Community Events,Fundraising Event
ATTACH;FMTTYPE=image/avif:https://blazintrailsbottlebabies.org/wp-content/uploads/2025/07/highres_527985497.avif
END:VEVENT
BEGIN:VEVENT
DTSTART;TZID=America/New_York:20260322T103000
DTEND;TZID=America/New_York:20260322T233000
DTSTAMP:20260421T133316
CREATED:20260318T114441Z
LAST-MODIFIED:20260318T114441Z
UID:1385-1774175400-1774222200@blazintrailsbottlebabies.org
SUMMARY:Puppy Yoga at Crank Arm Raleigh
DESCRIPTION:Flow through your poses while puppies prance around your mat—this is yoga like you’ve never experienced it before! Blazin’ Trails Bottle Babies is teaming up with Crank Arm Brewing for a special Puppy Yoga session that combines movement\, mindfulness\, and a whole lot of puppy love. \nExpect gentle yoga\, adorable adoptable pups\, and lots of feel-good vibes. Stick around after class to enjoy a craft beer and meet the puppies up close! \nSpace is limited and advance tickets are required. These events sell out fast\, so don’t wait!
URL:https://blazintrailsbottlebabies.org/event/puppy-yoga-at-crank-arm-raleigh-4/
LOCATION:Crank Arm Brewing Company – Raleigh\, 319 W Davie St\, Raleigh\, 27601\, United States
CATEGORIES:Community Events,Fundraising Event
ATTACH;FMTTYPE=image/avif:https://blazintrailsbottlebabies.org/wp-content/uploads/2025/12/highres_527985746-2.avif
END:VEVENT
BEGIN:VEVENT
DTSTART;TZID=America/New_York:20260329T120000
DTEND;TZID=America/New_York:20260329T130000
DTSTAMP:20260421T133316
CREATED:20260224T140425Z
LAST-MODIFIED:20260224T140425Z
UID:1380-1774785600-1774789200@blazintrailsbottlebabies.org
SUMMARY:12:00 Class Puppy Yoga at Unleashed N. Raleigh
DESCRIPTION:Event Details\nDate: Sunday\, March 29\nTime: 12:00-1:00 PM\nLocation: Unleashed Store for Cats & Dogs (North Raleigh) • 7408 Creedmoor Rd\, Raleigh\, NC \nTickets: $35 each\nAll proceeds support Blazin’ Trails Bottle Babies  rescue puppies and the care they need to grow strong. \n👉 Tickets go fast and this one sells out quickly\, so grab yours in advance. \nWhat to expect: A beginner-friendly yoga flow with rescue puppies roaming for cuddles\, naps\, and the best kind of distraction. \nArrival: Come 5 minutes early to check in and set up your mat. \nWhat to bring: Yoga mat + water\, comfy clothes\, and a camera-ready smile.
URL:https://blazintrailsbottlebabies.org/event/1200-class-puppy-yoga-at-unleashed-n-raleigh/
LOCATION:Unleashed\, 7408 Creedmoor Rd\, Raleigh\, 27613
CATEGORIES:Community Events,Fundraising Event
ATTACH;FMTTYPE=image/jpeg:https://blazintrailsbottlebabies.org/wp-content/uploads/2026/01/Puppy-Yoga-1.jpg
END:VEVENT
BEGIN:VEVENT
DTSTART;TZID=America/New_York:20260329T133000
DTEND;TZID=America/New_York:20260329T143000
DTSTAMP:20260421T133316
CREATED:20260224T140237Z
LAST-MODIFIED:20260224T140237Z
UID:1378-1774791000-1774794600@blazintrailsbottlebabies.org
SUMMARY:1:30pm class- Puppy Yoga at Unleashed N. Raleigh
DESCRIPTION:Event Details\nDate: Sunday\, March 29\nTime: 1:30-2:30 PM\nLocation: Unleashed Store for Cats & Dogs (North Raleigh) • 7408 Creedmoor Rd\, Raleigh\, NC \nTickets: $35 each\nAll proceeds support Blazin’ Trails Bottle Babies  rescue puppies and the care they need to grow strong. \n👉 Tickets go fast and this one sells out quickly\, so grab yours in advance. \nWhat to expect: A beginner-friendly yoga flow with rescue puppies roaming for cuddles\, naps\, and the best kind of distraction. \nArrival: Come 5 minutes early to check in and set up your mat. \nWhat to bring: Yoga mat + water\, comfy clothes\, and a camera-ready smile.
URL:https://blazintrailsbottlebabies.org/event/130pm-class-puppy-yoga-at-unleashed-n-raleigh/
LOCATION:Unleashed\, 7408 Creedmoor Rd\, Raleigh\, 27613
CATEGORIES:Community Events,Fundraising Event
ATTACH;FMTTYPE=image/jpeg:https://blazintrailsbottlebabies.org/wp-content/uploads/2026/01/Puppy-Yoga-1.jpg
END:VEVENT
END:VCALENDAR