BEGIN:VCALENDAR
VERSION:2.0
PRODID:-//Blazin’ Trails Bottle Babies - ECPv6.15.20//NONSGML v1.0//EN
CALSCALE:GREGORIAN
METHOD:PUBLISH
X-WR-CALNAME:Blazin’ Trails Bottle Babies
X-ORIGINAL-URL:https://blazintrailsbottlebabies.org
X-WR-CALDESC:Events for Blazin’ Trails Bottle Babies
REFRESH-INTERVAL;VALUE=DURATION:PT1H
X-Robots-Tag:noindex
X-PUBLISHED-TTL:PT1H
BEGIN:VTIMEZONE
TZID:America/New_York
BEGIN:DAYLIGHT
TZOFFSETFROM:-0500
TZOFFSETTO:-0400
TZNAME:EDT
DTSTART:20250309T070000
END:DAYLIGHT
BEGIN:STANDARD
TZOFFSETFROM:-0400
TZOFFSETTO:-0500
TZNAME:EST
DTSTART:20251102T060000
END:STANDARD
BEGIN:DAYLIGHT
TZOFFSETFROM:-0500
TZOFFSETTO:-0400
TZNAME:EDT
DTSTART:20260308T070000
END:DAYLIGHT
BEGIN:STANDARD
TZOFFSETFROM:-0400
TZOFFSETTO:-0500
TZNAME:EST
DTSTART:20261101T060000
END:STANDARD
BEGIN:DAYLIGHT
TZOFFSETFROM:-0500
TZOFFSETTO:-0400
TZNAME:EDT
DTSTART:20270314T070000
END:DAYLIGHT
BEGIN:STANDARD
TZOFFSETFROM:-0400
TZOFFSETTO:-0500
TZNAME:EST
DTSTART:20271107T060000
END:STANDARD
END:VTIMEZONE
BEGIN:VEVENT
DTSTART;TZID=America/New_York:20260206T180000
DTEND;TZID=America/New_York:20260206T190000
DTSTAMP:20260421T144150
CREATED:20251228T190050Z
LAST-MODIFIED:20260116T143631Z
UID:1015-1770400800-1770404400@blazintrailsbottlebabies.org
SUMMARY:Relax and Unwind at Nourish Studios Puppy Yoga
DESCRIPTION:Relaxing Puppy Yoga @ Nourish Studios\nFriday Night | 6:00 PM | Wake Forest \nUnwind at the end of the week with the perfect mix of movement\, mindfulness\, and puppy love. 🧘‍♀️🐶 \nJoin Blazin’ Trails Bottle Babies for a Relaxing Puppy Yoga class at Nourish Studios in Wake Forest. This gentle\, feel-good flow is designed to help you slow down\, breathe deeply\, and reset—while adorable\, adoptable puppies roam the room offering snuggles\, smiles\, and the occasional yoga “assist.” \nExpect soft movement\, calming energy\, and plenty of puppy cuddles woven throughout the class. Whether you’re a seasoned yogi or just here for the puppies (we get it)\, this evening is all about relaxation\, connection\, and joy. \n✨ End your week grounded.🐾 Leave with a full heart.❤️ And maybe fall in love with a puppy along the way. \nCome stretch\, snuggle\, and soak in the calm—we can’t wait to see you on the mat.
URL:https://blazintrailsbottlebabies.org/event/relax-and-unwind-at-nourish-studios-puppy-yoga/
LOCATION:Nourish Studios\, 101 N. White St\, Wake Forest\, North Carolina\, 27587
CATEGORIES:Fundraising Event
ATTACH;FMTTYPE=image/jpeg:https://blazintrailsbottlebabies.org/wp-content/uploads/2025/12/unnamed-7.jpg
END:VEVENT
BEGIN:VEVENT
DTSTART;TZID=America/New_York:20260214T120000
DTEND;TZID=America/New_York:20260214T150000
DTSTAMP:20260421T144150
CREATED:20260106T074045Z
LAST-MODIFIED:20260116T143523Z
UID:1271-1771070400-1771081200@blazintrailsbottlebabies.org
SUMMARY:Smooches for Pooches
DESCRIPTION:Get ready for the sweetest fundraiser of the season. Smooches for Pooches is popping up for one adorable afternoon\, and it’s all about kisses\, puppies\, and memories you’ll want to keep forever. \nJoin Blazin’ Trails Bottle Babies at Lil R & R in Makers Alley on Sunday from 12–3 PM for a charming kissing booth experience with a rescue twist. We’ll have a whimsical booth scene set up where you can bring your own pup for a photo\, or share a moment with one of our lovable rescue puppies. \nOur talented photographer will capture that perfect smooch\, tail wag\, or nose boop\, and you’ll head home with a professionally printed and framed photo the same day. It’s a keepsake that celebrates love\, laughter\, and second chances. \nThe experience is a $25 donation\, and every dollar supports orphaned newborn puppies receiving lifesaving care\, bottle feedings\, and foster love right here in our community. \nCome for the kisses. Stay for the puppies. Leave with a smile\, a frame-worthy photo\, and the joy of knowing you helped give tiny lives a brighter start \n\nTickets: https://givebutter.com/BTBBkissingbooth
URL:https://blazintrailsbottlebabies.org/event/smooches-for-pooches/
LOCATION:A Lil R & R\, 540 Saint Albans Drive Ste 110\, Raleigh\, NC
CATEGORIES:Adoptable Puppy Meet n Greet,Community Events,Fundraising Event
ATTACH;FMTTYPE=image/png:https://blazintrailsbottlebabies.org/wp-content/uploads/2026/01/Smooches.png
END:VEVENT
BEGIN:VEVENT
DTSTART;TZID=America/New_York:20260222T120000
DTEND;TZID=America/New_York:20260222T130000
DTSTAMP:20260421T144150
CREATED:20260116T144051Z
LAST-MODIFIED:20260217T133216Z
UID:1333-1771761600-1771765200@blazintrailsbottlebabies.org
SUMMARY:Puppy Yoga at Unleashed - Noon Class
DESCRIPTION:Puppy Yoga is coming to Unleashed Store for Cats & Dogs in North Raleigh\, and it’s the happiest way to support rescue puppies. \nJoin us on Sunday\, February 22 from 12:00–1:00 PM at 7408 Creedmoor Rd\, Raleigh\, NC for a beginner-friendly yoga flow with rescue puppies roaming the room for cuddles\, naps\, and plenty of smiles. This class is welcoming for every level\, including first-timers. \nTickets are $35 each\, and all proceeds support rescue puppies through Blazin’ Trails Bottle Babies—helping fund bottle feeding\, warmth support\, supplies\, and medical care for orphaned newborn puppies. Tickets sell out fast\, so grab yours in advance. \nBring a yoga mat\, water\, and comfy clothes that welcome puppy kisses. Arrive 10–15 minutes early to check in and get settled. \nCome stretch\, laugh\, take photos\, and leave knowing your hour did real good for the smallest lives. \nTickets: https://givebutter.com/UnleashedYoga1
URL:https://blazintrailsbottlebabies.org/event/puppy-yoga-at-unleashed-noon-class/
LOCATION:Unleashed\, 7408 Creedmoor Rd\, Raleigh\, 27613
CATEGORIES:Community Events,Fundraising Event
ATTACH;FMTTYPE=image/jpeg:https://blazintrailsbottlebabies.org/wp-content/uploads/2026/01/Puppy-Yoga-1.jpg
END:VEVENT
BEGIN:VEVENT
DTSTART;TZID=America/New_York:20260222T133000
DTEND;TZID=America/New_York:20260222T143000
DTSTAMP:20260421T144150
CREATED:20260116T144337Z
LAST-MODIFIED:20260116T144401Z
UID:1337-1771767000-1771770600@blazintrailsbottlebabies.org
SUMMARY:Unleashed Puppy Yoga - 1:30 Class
DESCRIPTION:Puppy Yoga is coming to Unleashed Store for Cats & Dogs in North Raleigh\, and it’s the happiest way to support rescue puppies. \nJoin us on Sunday\, February 22 from 1:30–2:30 PM at 7408 Creedmoor Rd\, Raleigh\, NC for a beginner-friendly yoga flow with rescue puppies roaming the room for cuddles\, naps\, and plenty of smiles. This class is welcoming for every level\, including first-timers. \nTickets are $35 each\, and all proceeds support rescue puppies through Blazin’ Trails Bottle Babies—helping fund bottle feeding\, warmth support\, supplies\, and medical care for orphaned newborn puppies. Tickets sell out fast\, so grab yours in advance. \nBring a yoga mat\, water\, and comfy clothes that welcome puppy kisses. Arrive 10–15 minutes early to check in and get settled. \nCome stretch\, laugh\, take photos\, and leave knowing your hour did real good for the smallest lives. \nTickets: https://givebutter.com/UnleashedYoga2
URL:https://blazintrailsbottlebabies.org/event/unleashed-puppy-yoga-130-class/
LOCATION:Unleashed\, 7408 Creedmoor Rd\, Raleigh\, 27613
CATEGORIES:Community Events,Fundraising Event
ATTACH;FMTTYPE=image/jpeg:https://blazintrailsbottlebabies.org/wp-content/uploads/2026/01/Puppy-Yoga-1.jpg
END:VEVENT
END:VCALENDAR