BEGIN:VCALENDAR
VERSION:2.0
PRODID:-//Blazin’ Trails Bottle Babies - ECPv6.15.20//NONSGML v1.0//EN
CALSCALE:GREGORIAN
METHOD:PUBLISH
X-WR-CALNAME:Blazin’ Trails Bottle Babies
X-ORIGINAL-URL:https://blazintrailsbottlebabies.org
X-WR-CALDESC:Events for Blazin’ Trails Bottle Babies
REFRESH-INTERVAL;VALUE=DURATION:PT1H
X-Robots-Tag:noindex
X-PUBLISHED-TTL:PT1H
BEGIN:VTIMEZONE
TZID:America/New_York
BEGIN:DAYLIGHT
TZOFFSETFROM:-0500
TZOFFSETTO:-0400
TZNAME:EDT
DTSTART:20250309T070000
END:DAYLIGHT
BEGIN:STANDARD
TZOFFSETFROM:-0400
TZOFFSETTO:-0500
TZNAME:EST
DTSTART:20251102T060000
END:STANDARD
BEGIN:DAYLIGHT
TZOFFSETFROM:-0500
TZOFFSETTO:-0400
TZNAME:EDT
DTSTART:20260308T070000
END:DAYLIGHT
BEGIN:STANDARD
TZOFFSETFROM:-0400
TZOFFSETTO:-0500
TZNAME:EST
DTSTART:20261101T060000
END:STANDARD
BEGIN:DAYLIGHT
TZOFFSETFROM:-0500
TZOFFSETTO:-0400
TZNAME:EDT
DTSTART:20270314T070000
END:DAYLIGHT
BEGIN:STANDARD
TZOFFSETFROM:-0400
TZOFFSETTO:-0500
TZNAME:EST
DTSTART:20271107T060000
END:STANDARD
END:VTIMEZONE
BEGIN:VEVENT
DTSTART;TZID=America/New_York:20260509T130000
DTEND;TZID=America/New_York:20260509T140000
DTSTAMP:20260421T193312
CREATED:20260318T121741Z
LAST-MODIFIED:20260318T121741Z
UID:1404-1778331600-1778335200@blazintrailsbottlebabies.org
SUMMARY:Puppy Yoga at Y6
DESCRIPTION:Join us for an hour of movement\, smiles\, and puppy snuggles at Y6 Cary in Fenton! \nThis special Puppy Yoga class is a fun way to unwind\, stretch\, and spend time with some adorable rescue puppies from Blazin’ Trails Bottle Babies. While you flow through class\, our puppies will be there bringing joy\, cuddles\, and lots of playful energy. \nBest of all\, your attendance helps support orphaned newborn puppies in our care by providing formula\, medical care\, supplies\, and safe foster homes. \nEvent Details:📍 Y6 Cary301 Fenton Gateway Drive\, Suite 020Cary\, NC 27511 \nhttps://www.yogasix.com/location/cary \n📅Saturday\, May 9⏰ 1:00 PM – 2:00 PM \nCome for the yoga\, stay for the puppies\, and help make a difference for rescue babies who need us most. 💛
URL:https://blazintrailsbottlebabies.org/event/puppy-yoga-at-y6/
LOCATION:YogaSix\, 301 Fenton Gateway Drive STE 020\, Cary\, NC\, 27511
CATEGORIES:Community Events,Fundraising Event
ATTACH;FMTTYPE=image/png:https://blazintrailsbottlebabies.org/wp-content/uploads/2026/03/Add-a-heading.png
END:VEVENT
BEGIN:VEVENT
DTSTART;TZID=America/New_York:20260516T140000
DTEND;TZID=America/New_York:20260516T160000
DTSTAMP:20260421T193312
CREATED:20251229T055941Z
LAST-MODIFIED:20260410T205810Z
UID:1019-1778940000-1778947200@blazintrailsbottlebabies.org
SUMMARY:Pups n’ Pints @ Raleigh Beer Garden
DESCRIPTION:Every 3rd Saturday |  2– 4 PM | 614 Glenwood Ave\, Raleigh \nGood beer. Great people. Adorable puppies. \nJoin Blazin’ Trails Bottle Babies every third Saturday for Pups n’ Pints at Raleigh Beer Garden! We’re bringing a crew of adorable\, adoptable puppies to one of Raleigh’s favorite spots for an afternoon full of good vibes\, great beer\, and puppy snuggles. \nGrab a pint\, enjoy the patio\, and meet puppies who are ready to charm their way straight into your heart. Whether you’re dreaming of adoption or just here for the cuddles\, this is the kind of afternoon that makes everything better. ❤️ \nPuppy kisses are complimentary. Falling in love is encouraged. \nMake it your new monthly tradition — we’ll see you at Pups n’ Pints!
URL:https://blazintrailsbottlebabies.org/event/pups-n-pints-raleigh-beer-garden-4/
LOCATION:Raleigh Beer Garden\, 614 Glenwood Ave\, Raleigh\, NC\, 27603
CATEGORIES:Adoptable Puppy Meet n Greet,Community Events
ATTACH;FMTTYPE=image/jpeg:https://blazintrailsbottlebabies.org/wp-content/uploads/2025/12/3rd-Saturday-of-every-month.jpg
END:VEVENT
BEGIN:VEVENT
DTSTART;TZID=America/New_York:20260516T140000
DTEND;TZID=America/New_York:20260516T160000
DTSTAMP:20260421T193312
CREATED:20260410T210125Z
LAST-MODIFIED:20260410T210125Z
UID:1471-1778940000-1778947200@blazintrailsbottlebabies.org
SUMMARY:Pups n Pints at Raleigh Beer Garden
DESCRIPTION:Good beer. Great people. Adorable puppies.\nJoin Blazin’ Trails Bottle Babies every third Saturday for Pups n’ Pints at Raleigh Beer Garden! We’re bringing a crew of adorable\, adoptable puppies to one of Raleigh’s favorite spots for an afternoon full of good vibes\, great beer\, and puppy snuggles.\nGrab a pint\, enjoy the patio\, and meet puppies who are ready to charm their way straight into your heart. Whether you’re dreaming of adoption or just here for the cuddles\, this is the kind of afternoon that makes everything better. \nPuppy kisses are complimentary. Falling in love is encouraged.\nMake it your new monthly tradition — we’ll see you at Pups n’ Pints!
URL:https://blazintrailsbottlebabies.org/event/pups-n-pints-at-raleigh-beer-garden-4/
LOCATION:Raleigh Beer Garden\, 614 Glenwood Ave\, Raleigh\, NC\, 27603
CATEGORIES:Adoptable Puppy Meet n Greet,Community Events
ATTACH;FMTTYPE=image/jpeg:https://blazintrailsbottlebabies.org/wp-content/uploads/2025/12/3rd-Saturday-of-every-month.jpg
END:VEVENT
BEGIN:VEVENT
DTSTART;TZID=America/New_York:20260517T103000
DTEND;TZID=America/New_York:20260517T113000
DTSTAMP:20260421T193312
CREATED:20260318T150924Z
LAST-MODIFIED:20260318T151007Z
UID:1413-1779013800-1779017400@blazintrailsbottlebabies.org
SUMMARY:Puppy Yoga at Crank Arm Raleigh
DESCRIPTION:Stretch\, smile\, and snuggle—welcome to Puppy Yoga with Blazin’ Trails Bottle Babies! This feel-good flow pairs gentle yoga with irresistible puppy playtime. As you move through your poses\, our adorable rescue puppies will roam freely\, giving kisses\, climbing on mats\, and spreading pure joy. Whether you’re a seasoned yogi or just in it for the cuddles\, this class is the perfect way to unwind while supporting a lifesaving cause. Every ticket helps us care for orphaned newborn puppies—so come for the zen\, stay for the zoomies\, and leave with a full heart.
URL:https://blazintrailsbottlebabies.org/event/puppy-yoga-at-crank-arm-raleigh-6/
LOCATION:Crank Arm Brewing Company – Raleigh\, 319 W Davie St\, Raleigh\, 27601\, United States
CATEGORIES:Adoptable Puppy Meet n Greet,Community Events,Fundraising Event
ATTACH;FMTTYPE=image/avif:https://blazintrailsbottlebabies.org/wp-content/uploads/2025/12/highres_527985746-2.avif
END:VEVENT
BEGIN:VEVENT
DTSTART;TZID=America/New_York:20260524T120000
DTEND;TZID=America/New_York:20260524T130000
DTSTAMP:20260421T193312
CREATED:20260409T232556Z
LAST-MODIFIED:20260409T234153Z
UID:1458-1779624000-1779627600@blazintrailsbottlebabies.org
SUMMARY:Puppy Yoga with Blazin Trails Bottle Babies
DESCRIPTION:Stretch\, smile\, and snuggle—welcome to Puppy Yoga with Blazin’ Trails Bottle Babies! This feel-good flow pairs gentle yoga with irresistible puppy playtime. As you move through your poses\, our adorable rescue puppies will roam freely\, giving kisses\, climbing on mats\, and spreading pure joy. Whether you’re a seasoned yogi or just in it for the cuddles\, this class is the perfect way to unwind while supporting a lifesaving cause. Every ticket helps us care for orphaned newborn puppies—so come for the zen\, stay for the zoomies\, and leave with a full heart.. 
URL:https://blazintrailsbottlebabies.org/event/puppy-yoga-with-blazin-trails-bottle-babies/
LOCATION:Unleashed\, 7408 Creedmoor Rd\, Raleigh\, 27613
CATEGORIES:Adoptable Puppy Meet n Greet,Community Events,Fundraising Event
ATTACH;FMTTYPE=image/jpeg:https://blazintrailsbottlebabies.org/wp-content/uploads/2026/04/641369016_1500766685007893_8121141352833732206_n.jpg
END:VEVENT
BEGIN:VEVENT
DTSTART;TZID=America/New_York:20260524T133000
DTEND;TZID=America/New_York:20260524T143000
DTSTAMP:20260421T193312
CREATED:20260409T232909Z
LAST-MODIFIED:20260409T234126Z
UID:1461-1779629400-1779633000@blazintrailsbottlebabies.org
SUMMARY:Puppy Yoga with Blazin Trails Bottle Babies
DESCRIPTION:Monthly puppy yoga at Unleashed Stonehenge!! \nStretch and play with adorable\, adoptable puppies from Blazin’ Trails Bottle Babies. \nTwo sessions on the final Sunday of every month:* 12:00 PM – 1:00 PM* 1:30 PM – 2:30 PM\nSee our website to view all dates and sign-up (when available):https://www.unleashedmutt.com/puppy-yoga\n#unleashedthedogandcatstore #unleashedstonehenge #puppyyoga #raleighnc #adopt #shoplocal
URL:https://blazintrailsbottlebabies.org/event/puppy-yoga-with-blazin-trails-bottle-babies-2/
LOCATION:Unleashed\, 7408 Creedmoor Rd\, Raleigh\, 27613
CATEGORIES:Adoptable Puppy Meet n Greet,Community Events,Fundraising Event
ATTACH;FMTTYPE=image/jpeg:https://blazintrailsbottlebabies.org/wp-content/uploads/2026/04/641369016_1500766685007893_8121141352833732206_n.jpg
END:VEVENT
BEGIN:VEVENT
DTSTART;TZID=America/New_York:20260530T110000
DTEND;TZID=America/New_York:20260530T114500
DTSTAMP:20260421T193312
CREATED:20260410T210842Z
LAST-MODIFIED:20260410T212421Z
UID:1473-1780138800-1780141500@blazintrailsbottlebabies.org
SUMMARY:Puppy Yoga at Nourish Studios
DESCRIPTION:Stretch\, smile\, and snuggle—welcome to Puppy Yoga with Blazin’ Trails Bottle Babies! This feel-good flow pairs gentle yoga with irresistible puppy playtime. As you move through your poses\, our adorable rescue puppies will roam freely\, giving kisses\, climbing on mats\, and spreading pure joy. Whether you’re a seasoned yogi or just in it for the cuddles\, this class is the perfect way to unwind while supporting a lifesaving cause. Every ticket helps us care for orphaned newborn puppies—so come for the zen\, stay for the zoomies\, and leave with a full heart..  \nClass 1 : 11am-11:45am \nClass 2: 12pm-12:45am (Class 2 is tentative)
URL:https://blazintrailsbottlebabies.org/event/puppy-yoga-at-nourish-studios-2/
LOCATION:Nourish Studios\, 101 N. White St\, Wake Forest\, North Carolina\, 27587
CATEGORIES:Adoptable Puppy Meet n Greet,Community Events
ATTACH;FMTTYPE=image/png:https://blazintrailsbottlebabies.org/wp-content/uploads/2026/03/Add-a-heading.png
END:VEVENT
BEGIN:VEVENT
DTSTART;TZID=America/New_York:20260829T180000
DTEND;TZID=America/New_York:20260829T210000
DTSTAMP:20260421T193312
CREATED:20260410T000800Z
LAST-MODIFIED:20260410T000800Z
UID:1463-1788026400-1788037200@blazintrailsbottlebabies.org
SUMMARY:"Unmasked" Masquerade Ball Benefit for Blazin' Trails Bottle Babies
DESCRIPTION:You Are Invited to UNMASKED\nA Masquerade Ball for Puppies \nJoin us for an elegant evening in support of Blazin’ Trails Bottle Babies\, a neonatal puppy rescue devoted to the care of orphaned newborn puppies. \nUNMASKED is a masquerade ball inspired by the way so many of our puppies begin life — without history\, without certainty\, their stories yet to be revealed. This evening brings together those who value beauty\, community\, and meaningful impact\, all in service of giving vulnerable lives a future. \nSet at Cedar Grove Acres\, a picturesque working farm with rolling pastures\, ponds\, and resident animals\, the night unfolds across rustic barns and open grounds. Guests are invited to linger beneath the stars by the fire pit\, enjoy live music\, and take in the quiet charm of the countryside. \nYour evening includes: \n\nLive music\nA generously appointed charcuterie table\nBeer and wine service with two hosted drink tickets\nA refined silent auction featuring luxury items and experiences (The Private Collection)\nA curated vendor barn (The Emporium of Curiosities)\nA brief\, meaningful program centered on impact and giving\n\nAll funds raised directly support the rescue and medical care of orphaned newborn puppies\, providing warmth\, nourishment\, veterinary treatment\, and dedicated foster care at the most critical moments. \nUNMASKED is a celebration\, a gathering\, and a fundraiser — one that pairs a beautiful setting with a purposeful cause. \nWe hope you will join us. \nTheir beginning is a mystery.\nTheir future is promised.
URL:https://blazintrailsbottlebabies.org/event/unmasked-masquerade-ball-benefit-for-blazin-trails-bottle-babies/
LOCATION:Cedar Grove Acres\, 3123 Brassfield Rd.\, Creedmoor\, 27522
CATEGORIES:Community Events,Fundraising Event
ATTACH;FMTTYPE=image/png:https://blazintrailsbottlebabies.org/wp-content/uploads/2026/04/unmasked2.png
END:VEVENT
END:VCALENDAR