BEGIN:VCALENDAR
VERSION:2.0
PRODID:-//Blazin’ Trails Bottle Babies - ECPv6.15.20//NONSGML v1.0//EN
CALSCALE:GREGORIAN
METHOD:PUBLISH
X-WR-CALNAME:Blazin’ Trails Bottle Babies
X-ORIGINAL-URL:https://blazintrailsbottlebabies.org
X-WR-CALDESC:Events for Blazin’ Trails Bottle Babies
REFRESH-INTERVAL;VALUE=DURATION:PT1H
X-Robots-Tag:noindex
X-PUBLISHED-TTL:PT1H
BEGIN:VTIMEZONE
TZID:America/New_York
BEGIN:DAYLIGHT
TZOFFSETFROM:-0500
TZOFFSETTO:-0400
TZNAME:EDT
DTSTART:20250309T070000
END:DAYLIGHT
BEGIN:STANDARD
TZOFFSETFROM:-0400
TZOFFSETTO:-0500
TZNAME:EST
DTSTART:20251102T060000
END:STANDARD
BEGIN:DAYLIGHT
TZOFFSETFROM:-0500
TZOFFSETTO:-0400
TZNAME:EDT
DTSTART:20260308T070000
END:DAYLIGHT
BEGIN:STANDARD
TZOFFSETFROM:-0400
TZOFFSETTO:-0500
TZNAME:EST
DTSTART:20261101T060000
END:STANDARD
BEGIN:DAYLIGHT
TZOFFSETFROM:-0500
TZOFFSETTO:-0400
TZNAME:EDT
DTSTART:20270314T070000
END:DAYLIGHT
BEGIN:STANDARD
TZOFFSETFROM:-0400
TZOFFSETTO:-0500
TZNAME:EST
DTSTART:20271107T060000
END:STANDARD
END:VTIMEZONE
BEGIN:VEVENT
DTSTART;TZID=America/New_York:20260516T140000
DTEND;TZID=America/New_York:20260516T160000
DTSTAMP:20260421T151202
CREATED:20251229T055941Z
LAST-MODIFIED:20260410T205810Z
UID:1019-1778940000-1778947200@blazintrailsbottlebabies.org
SUMMARY:Pups n’ Pints @ Raleigh Beer Garden
DESCRIPTION:Every 3rd Saturday |  2– 4 PM | 614 Glenwood Ave\, Raleigh \nGood beer. Great people. Adorable puppies. \nJoin Blazin’ Trails Bottle Babies every third Saturday for Pups n’ Pints at Raleigh Beer Garden! We’re bringing a crew of adorable\, adoptable puppies to one of Raleigh’s favorite spots for an afternoon full of good vibes\, great beer\, and puppy snuggles. \nGrab a pint\, enjoy the patio\, and meet puppies who are ready to charm their way straight into your heart. Whether you’re dreaming of adoption or just here for the cuddles\, this is the kind of afternoon that makes everything better. ❤️ \nPuppy kisses are complimentary. Falling in love is encouraged. \nMake it your new monthly tradition — we’ll see you at Pups n’ Pints!
URL:https://blazintrailsbottlebabies.org/event/pups-n-pints-raleigh-beer-garden-4/
LOCATION:Raleigh Beer Garden\, 614 Glenwood Ave\, Raleigh\, NC\, 27603
CATEGORIES:Adoptable Puppy Meet n Greet,Community Events
ATTACH;FMTTYPE=image/jpeg:https://blazintrailsbottlebabies.org/wp-content/uploads/2025/12/3rd-Saturday-of-every-month.jpg
END:VEVENT
BEGIN:VEVENT
DTSTART;TZID=America/New_York:20260516T140000
DTEND;TZID=America/New_York:20260516T160000
DTSTAMP:20260421T151202
CREATED:20260410T210125Z
LAST-MODIFIED:20260410T210125Z
UID:1471-1778940000-1778947200@blazintrailsbottlebabies.org
SUMMARY:Pups n Pints at Raleigh Beer Garden
DESCRIPTION:Good beer. Great people. Adorable puppies.\nJoin Blazin’ Trails Bottle Babies every third Saturday for Pups n’ Pints at Raleigh Beer Garden! We’re bringing a crew of adorable\, adoptable puppies to one of Raleigh’s favorite spots for an afternoon full of good vibes\, great beer\, and puppy snuggles.\nGrab a pint\, enjoy the patio\, and meet puppies who are ready to charm their way straight into your heart. Whether you’re dreaming of adoption or just here for the cuddles\, this is the kind of afternoon that makes everything better. \nPuppy kisses are complimentary. Falling in love is encouraged.\nMake it your new monthly tradition — we’ll see you at Pups n’ Pints!
URL:https://blazintrailsbottlebabies.org/event/pups-n-pints-at-raleigh-beer-garden-4/
LOCATION:Raleigh Beer Garden\, 614 Glenwood Ave\, Raleigh\, NC\, 27603
CATEGORIES:Adoptable Puppy Meet n Greet,Community Events
ATTACH;FMTTYPE=image/jpeg:https://blazintrailsbottlebabies.org/wp-content/uploads/2025/12/3rd-Saturday-of-every-month.jpg
END:VEVENT
END:VCALENDAR