BEGIN:VCALENDAR
VERSION:2.0
PRODID:-//Blazin’ Trails Bottle Babies - ECPv6.15.20//NONSGML v1.0//EN
CALSCALE:GREGORIAN
METHOD:PUBLISH
X-WR-CALNAME:Blazin’ Trails Bottle Babies
X-ORIGINAL-URL:https://blazintrailsbottlebabies.org
X-WR-CALDESC:Events for Blazin’ Trails Bottle Babies
REFRESH-INTERVAL;VALUE=DURATION:PT1H
X-Robots-Tag:noindex
X-PUBLISHED-TTL:PT1H
BEGIN:VTIMEZONE
TZID:America/New_York
BEGIN:DAYLIGHT
TZOFFSETFROM:-0500
TZOFFSETTO:-0400
TZNAME:EDT
DTSTART:20250309T070000
END:DAYLIGHT
BEGIN:STANDARD
TZOFFSETFROM:-0400
TZOFFSETTO:-0500
TZNAME:EST
DTSTART:20251102T060000
END:STANDARD
BEGIN:DAYLIGHT
TZOFFSETFROM:-0500
TZOFFSETTO:-0400
TZNAME:EDT
DTSTART:20260308T070000
END:DAYLIGHT
BEGIN:STANDARD
TZOFFSETFROM:-0400
TZOFFSETTO:-0500
TZNAME:EST
DTSTART:20261101T060000
END:STANDARD
BEGIN:DAYLIGHT
TZOFFSETFROM:-0500
TZOFFSETTO:-0400
TZNAME:EDT
DTSTART:20270314T070000
END:DAYLIGHT
BEGIN:STANDARD
TZOFFSETFROM:-0400
TZOFFSETTO:-0500
TZNAME:EST
DTSTART:20271107T060000
END:STANDARD
END:VTIMEZONE
BEGIN:VEVENT
DTSTART;TZID=America/New_York:20260502T100000
DTEND;TZID=America/New_York:20260502T150000
DTSTAMP:20260421T140559
CREATED:20251229T060658Z
LAST-MODIFIED:20251229T060658Z
UID:1021-1777716000-1777734000@blazintrailsbottlebabies.org
SUMMARY:Cary Dog Dayz Pet Expo
DESCRIPTION:Get ready for a paw-some day of tail wags\, happy barks\, and animal-loving fun at the Cary Dog Daze & Pet Expo! \nHosted by the Town of Cary and Cary Animal Services\, this community-favorite event brings together animal rescues\, pet lovers\, and local vendors for a full day of excitement. From agility demonstrations and pet vendors to food trucks and doggy demos\, there’s something for everyone to enjoy. \n🐾 Come see our adoptable puppies at the Blazin’ Trails Bottle Babies booth!Look for our blue Blazin’ Trails tent and stop by to meet some of the sweetest pups around. Whether you’re ready to adopt or just want some puppy snuggles\, we’d love to meet you. \nBring your well-behaved pets\, bring your friends\, and come celebrate everything we love about animals. We can’t wait to see you there!
URL:https://blazintrailsbottlebabies.org/event/cary-dog-dayz-pet-expo/
LOCATION:Cary Police Department\, 120 Wilkinson Ave\, Cary\, NC\, 27513
CATEGORIES:Adoptable Puppy Meet n Greet,Community Events
ATTACH;FMTTYPE=image/png:https://blazintrailsbottlebabies.org/wp-content/uploads/2025/12/638727239920770000.png
END:VEVENT
END:VCALENDAR