BEGIN:VCALENDAR
VERSION:2.0
PRODID:-//Blazin’ Trails Bottle Babies - ECPv6.15.20//NONSGML v1.0//EN
CALSCALE:GREGORIAN
METHOD:PUBLISH
X-WR-CALNAME:Blazin’ Trails Bottle Babies
X-ORIGINAL-URL:https://blazintrailsbottlebabies.org
X-WR-CALDESC:Events for Blazin’ Trails Bottle Babies
REFRESH-INTERVAL;VALUE=DURATION:PT1H
X-Robots-Tag:noindex
X-PUBLISHED-TTL:PT1H
BEGIN:VTIMEZONE
TZID:America/New_York
BEGIN:DAYLIGHT
TZOFFSETFROM:-0500
TZOFFSETTO:-0400
TZNAME:EDT
DTSTART:20240310T070000
END:DAYLIGHT
BEGIN:STANDARD
TZOFFSETFROM:-0400
TZOFFSETTO:-0500
TZNAME:EST
DTSTART:20241103T060000
END:STANDARD
BEGIN:DAYLIGHT
TZOFFSETFROM:-0500
TZOFFSETTO:-0400
TZNAME:EDT
DTSTART:20250309T070000
END:DAYLIGHT
BEGIN:STANDARD
TZOFFSETFROM:-0400
TZOFFSETTO:-0500
TZNAME:EST
DTSTART:20251102T060000
END:STANDARD
BEGIN:DAYLIGHT
TZOFFSETFROM:-0500
TZOFFSETTO:-0400
TZNAME:EDT
DTSTART:20260308T070000
END:DAYLIGHT
BEGIN:STANDARD
TZOFFSETFROM:-0400
TZOFFSETTO:-0500
TZNAME:EST
DTSTART:20261101T060000
END:STANDARD
END:VTIMEZONE
BEGIN:VEVENT
DTSTART;TZID=America/New_York:20251207T130000
DTEND;TZID=America/New_York:20251207T150000
DTSTAMP:20260421T190527
CREATED:20251118T050105Z
LAST-MODIFIED:20251207T135945Z
UID:777-1765112400-1765119600@blazintrailsbottlebabies.org
SUMMARY:Pet Photos with Santa at Unleashed Durham
DESCRIPTION:Santa Paws is coming to Unleashed! \nBring your pets\, kids\, and the whole family out for Pet Photos with Santa at:Unleashed\, The Dog & Cat Store of Durham4215 University Dr\, Ste #13\, Durham\, NC \nFor a $20 donation\, you’ll receive a printed\, framed photo on the spot — perfect for gifting or displaying on your mantle all season long. \nFriendly dogs\, cats\, and critters are all welcome (as long as they’re leashed or safely contained)\, and kids are encouraged to jump in the photos too. Come make a sweet holiday memory\, support rescue pets\, and leave with a keepsake you’ll treasure every Christmas.
URL:https://blazintrailsbottlebabies.org/event/pet-photos-with-santa-at-unleashed-durham/
LOCATION:Unleashed Durham\, 4215 University Dr\, Ste #13\, Durham\, NC\, 27707
CATEGORIES:Community Events,Fundraising Event
ATTACH;FMTTYPE=image/png:https://blazintrailsbottlebabies.org/wp-content/uploads/2025/11/SANTA-PAWS-11-x-8.5-in-1.png
END:VEVENT
END:VCALENDAR