BEGIN:VCALENDAR
VERSION:2.0
PRODID:-//Blazin’ Trails Bottle Babies - ECPv6.15.20//NONSGML v1.0//EN
CALSCALE:GREGORIAN
METHOD:PUBLISH
X-WR-CALNAME:Blazin’ Trails Bottle Babies
X-ORIGINAL-URL:https://blazintrailsbottlebabies.org
X-WR-CALDESC:Events for Blazin’ Trails Bottle Babies
REFRESH-INTERVAL;VALUE=DURATION:PT1H
X-Robots-Tag:noindex
X-PUBLISHED-TTL:PT1H
BEGIN:VTIMEZONE
TZID:America/New_York
BEGIN:DAYLIGHT
TZOFFSETFROM:-0500
TZOFFSETTO:-0400
TZNAME:EDT
DTSTART:20240310T070000
END:DAYLIGHT
BEGIN:STANDARD
TZOFFSETFROM:-0400
TZOFFSETTO:-0500
TZNAME:EST
DTSTART:20241103T060000
END:STANDARD
BEGIN:DAYLIGHT
TZOFFSETFROM:-0500
TZOFFSETTO:-0400
TZNAME:EDT
DTSTART:20250309T070000
END:DAYLIGHT
BEGIN:STANDARD
TZOFFSETFROM:-0400
TZOFFSETTO:-0500
TZNAME:EST
DTSTART:20251102T060000
END:STANDARD
BEGIN:DAYLIGHT
TZOFFSETFROM:-0500
TZOFFSETTO:-0400
TZNAME:EDT
DTSTART:20260308T070000
END:DAYLIGHT
BEGIN:STANDARD
TZOFFSETFROM:-0400
TZOFFSETTO:-0500
TZNAME:EST
DTSTART:20261101T060000
END:STANDARD
END:VTIMEZONE
BEGIN:VEVENT
DTSTART;TZID=America/New_York:20250726T110000
DTEND;TZID=America/New_York:20250726T130000
DTSTAMP:20260422T014618
CREATED:20250721T153440Z
LAST-MODIFIED:20250721T153440Z
UID:629-1753527600-1753534800@blazintrailsbottlebabies.org
SUMMARY:Puppy Yoga at Unleashed
DESCRIPTION:Stretch\, smile\, and snuggle—join us for a feel-good yoga session surrounded by adorable rescue puppies! Hosted at Unleashed\, this all-levels class blends gentle movement with playful puppy love. All proceeds support the lifesaving work of Blazin’ Trails Bottle Babies. Space is limited\, so grab your mat and reserve your spot today!
URL:https://blazintrailsbottlebabies.org/event/puppy-yoga-at-unleashed/
LOCATION:Unleashed\, 7408 Creedmoor Rd\, Raleigh\, 27613
CATEGORIES:Community Events
END:VEVENT
END:VCALENDAR