BEGIN:VCALENDAR
VERSION:2.0
PRODID:-//Blazin’ Trails Bottle Babies - ECPv6.15.20//NONSGML v1.0//EN
CALSCALE:GREGORIAN
METHOD:PUBLISH
X-ORIGINAL-URL:https://blazintrailsbottlebabies.org
X-WR-CALDESC:Events for Blazin’ Trails Bottle Babies
REFRESH-INTERVAL;VALUE=DURATION:PT1H
X-Robots-Tag:noindex
X-PUBLISHED-TTL:PT1H
BEGIN:VTIMEZONE
TZID:America/New_York
BEGIN:DAYLIGHT
TZOFFSETFROM:-0500
TZOFFSETTO:-0400
TZNAME:EDT
DTSTART:20240310T070000
END:DAYLIGHT
BEGIN:STANDARD
TZOFFSETFROM:-0400
TZOFFSETTO:-0500
TZNAME:EST
DTSTART:20241103T060000
END:STANDARD
BEGIN:DAYLIGHT
TZOFFSETFROM:-0500
TZOFFSETTO:-0400
TZNAME:EDT
DTSTART:20250309T070000
END:DAYLIGHT
BEGIN:STANDARD
TZOFFSETFROM:-0400
TZOFFSETTO:-0500
TZNAME:EST
DTSTART:20251102T060000
END:STANDARD
BEGIN:DAYLIGHT
TZOFFSETFROM:-0500
TZOFFSETTO:-0400
TZNAME:EDT
DTSTART:20260308T070000
END:DAYLIGHT
BEGIN:STANDARD
TZOFFSETFROM:-0400
TZOFFSETTO:-0500
TZNAME:EST
DTSTART:20261101T060000
END:STANDARD
END:VTIMEZONE
BEGIN:VEVENT
DTSTART;TZID=America/New_York:20250503T100000
DTEND;TZID=America/New_York:20250503T150000
DTSTAMP:20260422T031449
CREATED:20250428T132446Z
LAST-MODIFIED:20250428T132446Z
UID:379-1746266400-1746284400@blazintrailsbottlebabies.org
SUMMARY:Cary Dog Dayz
DESCRIPTION:Get ready to unleash the fun — and maybe meet your future best friend! 🐾Blazin’ Trails Bottle Babies is thrilled to be part of Cary’s biggest bark party of the year! Come visit our booth\, snuggle some of our adorable adoptable pups\, and soak up a day packed with wagging tails\, tasty treats\, and paw-some adventures. Whether you’re ready to adopt or just need a little puppy therapy\, we can’t wait to see you at Dog Daze! 🎉🐶
URL:https://blazintrailsbottlebabies.org/event/cary-dog-dayz/
LOCATION:Cary Police Department\, 120 Wilkinson Ave\, Cary\, NC\, 27513
CATEGORIES:Community Events
END:VEVENT
END:VCALENDAR