BEGIN:VCALENDAR
VERSION:2.0
PRODID:-//Blazin’ Trails Bottle Babies - ECPv6.15.20//NONSGML v1.0//EN
CALSCALE:GREGORIAN
METHOD:PUBLISH
X-ORIGINAL-URL:https://blazintrailsbottlebabies.org
X-WR-CALDESC:Events for Blazin’ Trails Bottle Babies
REFRESH-INTERVAL;VALUE=DURATION:PT1H
X-Robots-Tag:noindex
X-PUBLISHED-TTL:PT1H
BEGIN:VTIMEZONE
TZID:America/New_York
BEGIN:DAYLIGHT
TZOFFSETFROM:-0500
TZOFFSETTO:-0400
TZNAME:EDT
DTSTART:20240310T070000
END:DAYLIGHT
BEGIN:STANDARD
TZOFFSETFROM:-0400
TZOFFSETTO:-0500
TZNAME:EST
DTSTART:20241103T060000
END:STANDARD
BEGIN:DAYLIGHT
TZOFFSETFROM:-0500
TZOFFSETTO:-0400
TZNAME:EDT
DTSTART:20250309T070000
END:DAYLIGHT
BEGIN:STANDARD
TZOFFSETFROM:-0400
TZOFFSETTO:-0500
TZNAME:EST
DTSTART:20251102T060000
END:STANDARD
BEGIN:DAYLIGHT
TZOFFSETFROM:-0500
TZOFFSETTO:-0400
TZNAME:EDT
DTSTART:20260308T070000
END:DAYLIGHT
BEGIN:STANDARD
TZOFFSETFROM:-0400
TZOFFSETTO:-0500
TZNAME:EST
DTSTART:20261101T060000
END:STANDARD
END:VTIMEZONE
BEGIN:VEVENT
DTSTART;TZID=America/New_York:20250906T140000
DTEND;TZID=America/New_York:20250906T170000
DTSTAMP:20260421T151852
CREATED:20250730T143139Z
LAST-MODIFIED:20250730T143139Z
UID:633-1757167200-1757178000@blazintrailsbottlebabies.org
SUMMARY:Puppy Patio Party at Morgan St Food Hall
DESCRIPTION:Get ready for a tail-wagging good time at our Puppy Patio Party! Join us for an afternoon filled with adorable adoptable puppies\, puppy snuggles\, and good vibes on the patio. Whether you’re looking to meet your new best friend or just need a little puppy therapy\, this event is the perfect way to spend your day. Come mingle with our rescue pups\, learn more about fostering or adopting\, and enjoy the lively atmosphere of Morgan Street Food Hall while supporting a lifesaving mission.
URL:https://blazintrailsbottlebabies.org/event/puppy-patio-party-at-morgan-st-food-hall-2/
LOCATION:Morgan St Food Hall\, 411 W. Morgan St\, Raleigh\, NC
CATEGORIES:Adoptable Puppy Meet n Greet
ATTACH;FMTTYPE=image/png:https://blazintrailsbottlebabies.org/wp-content/uploads/2025/06/Paws-on-the-Patio.png
END:VEVENT
BEGIN:VEVENT
DTSTART;TZID=America/New_York:20250816T130000
DTEND;TZID=America/New_York:20250816T160000
DTSTAMP:20260421T151852
CREATED:20250715T142628Z
LAST-MODIFIED:20250812T140141Z
UID:622-1755349200-1755360000@blazintrailsbottlebabies.org
SUMMARY:Pups n Pints at Raleigh Beer Garden
DESCRIPTION:Brews\, barks\, and best friends! 🍻🐾Blazin’ Trails Bottle Babies is heading to Raleigh Beer Garden with a pack of adorable\, adoptable pups — and they can’t wait to meet you! Come grab a cold drink\, enjoy the sunshine\, and fall in love with a furry friend who’s ready to hop into your heart (and maybe your car).Puppy kisses are free — but be warned: you just might leave with a new best friend! ❤️
URL:https://blazintrailsbottlebabies.org/event/pups-n-pints-at-raleigh-beer-garden-2/
LOCATION:NC
CATEGORIES:Adoptable Puppy Meet n Greet
ATTACH;FMTTYPE=image/jpeg:https://blazintrailsbottlebabies.org/wp-content/uploads/2025/07/476034021_122226072038030947_2242004412316644794_n-2.jpg
END:VEVENT
BEGIN:VEVENT
DTSTART;TZID=America/New_York:20250621T130000
DTEND;TZID=America/New_York:20250621T170000
DTSTAMP:20260421T151852
CREATED:20250520T095957Z
LAST-MODIFIED:20250520T095957Z
UID:455-1750510800-1750525200@blazintrailsbottlebabies.org
SUMMARY:Puppy Meet n Greet at Raleigh Beer Garden
DESCRIPTION:Brews\, barks\, and best friends! 🍻🐾Blazin’ Trails Bottle Babies is heading to Raleigh Beer Garden with a pack of adorable\, adoptable pups — and they can’t wait to meet you! Come grab a cold drink\, enjoy the sunshine\, and fall in love with a furry friend who’s ready to hop into your heart (and maybe your car).Puppy kisses are free — but be warned: you just might leave with a new best friend! ❤️
URL:https://blazintrailsbottlebabies.org/event/puppy-meet-n-greet-at-raleigh-beer-garden-2/
LOCATION:Raleigh Beer Garden\, 614 Glenwood Ave\, Raleigh\, NC\, 27603
CATEGORIES:Adoptable Puppy Meet n Greet
ATTACH;FMTTYPE=image/jpeg:https://blazintrailsbottlebabies.org/wp-content/uploads/2025/03/476034021_122226072038030947_2242004412316644794_n.jpg
END:VEVENT
BEGIN:VEVENT
DTSTART;TZID=America/New_York:20250615T130000
DTEND;TZID=America/New_York:20250615T160000
DTSTAMP:20260421T151852
CREATED:20250520T101226Z
LAST-MODIFIED:20250520T101226Z
UID:463-1749992400-1750003200@blazintrailsbottlebabies.org
SUMMARY:PUPPIES + POURING AT HONEYGIRL MEADERY
DESCRIPTION:Sip. Snuggle. Support. \nJoin us at the award-winning Honeygirl Meadery in downtown Durham for an afternoon of meads and mutts! We’re bringing a pack of our adorable\, adoptable puppies for a cozy Meet & Greet where you can sip seasonal small-batch meads while falling in love with your future best friend. 🐶💛 \nCome grab a glass (or a flight!) of Honeygirl’s signature honey wines — crafted with local ingredients and bursting with flavor — then head outside to cuddle with the cutest cause in town. Whether you’re looking to adopt\, foster\, or just enjoy a paws-itively sweet afternoon\, this event is full of tail wags and good vibes. \n🐝 No tickets or reservations needed — just come by\, grab a drink\, and meet the pups.All donations and a portion of proceeds help support the lifesaving work of Blazin’ Trails Bottle Babies\, rescuing and raising orphaned newborn puppies throughout North Carolina. \nGood drinks. Good dogs. Great cause.Let’s toast to second chances!
URL:https://blazintrailsbottlebabies.org/event/puppies-pouring-at-honeygirl-meadery/
LOCATION:Honeygirl Meadery\, 312 Blackwell St\, Durham\, North Carolina\, 27701
CATEGORIES:Adoptable Puppy Meet n Greet
END:VEVENT
BEGIN:VEVENT
DTSTART;TZID=America/New_York:20250607T140000
DTEND;TZID=America/New_York:20250607T170000
DTSTAMP:20260421T151852
CREATED:20250520T095254Z
LAST-MODIFIED:20250520T095303Z
UID:446-1749304800-1749315600@blazintrailsbottlebabies.org
SUMMARY:Morgan St Food Hall
DESCRIPTION:Foodies\, meet fluffies! 🍔🐾Blazin’ Trails Bottle Babies is popping up at Morgan Street Food Hall — and we’re bringing an extra side of adorable with us! Come grab your favorite bites from the amazing vendors\, then swing by to cuddle our rescue pups and maybe even meet your perfect match.Good food\, cold drinks\, and puppy kisses? It’s basically the recipe for the best Saturday ever. 🐶❤️
URL:https://blazintrailsbottlebabies.org/event/morgan-st-food-hall-2/
LOCATION:Morgan St Food Hall\, 411 W. Morgan St\, Raleigh\, NC
CATEGORIES:Adoptable Puppy Meet n Greet
END:VEVENT
BEGIN:VEVENT
DTSTART;TZID=America/New_York:20250605T170000
DTEND;TZID=America/New_York:20250605T200000
DTSTAMP:20260421T151852
CREATED:20250520T095125Z
LAST-MODIFIED:20250520T095143Z
UID:444-1749142800-1749153600@blazintrailsbottlebabies.org
SUMMARY:Yappy Hour at Roshambo Beverage Company
DESCRIPTION:Sip\, snuggle\, and save a life! 🍻🐾Join us for Yappy Hour at Roshambo Beverage Company — where the drinks are cold\, the puppies are adorable\, and your new best friend is waiting to meet you! Come grab a craft brew\, cuddle some precious rescue pups\, and maybe even find the furry soulmate you didn’t know you needed.Warning: Excessive puppy kisses highly likely. ❤️
URL:https://blazintrailsbottlebabies.org/event/yappy-hour-at-roshambo-beverage-company-2/
LOCATION:Roshambo Beverage Company\, 231 East St\, Raleigh\, NC\, 27601
CATEGORIES:Adoptable Puppy Meet n Greet
ATTACH;FMTTYPE=image/png:https://blazintrailsbottlebabies.org/wp-content/uploads/2025/04/ChatGPT-Image-Apr-28-2025-09_09_08-AM.png
END:VEVENT
BEGIN:VEVENT
DTSTART;TZID=America/New_York:20250517T130000
DTEND;TZID=America/New_York:20250517T160000
DTSTAMP:20260421T151852
CREATED:20250428T133255Z
LAST-MODIFIED:20250507T202504Z
UID:387-1747486800-1747497600@blazintrailsbottlebabies.org
SUMMARY:Puppy Meet n Greet at Raleigh Beer Garden
DESCRIPTION:Brews\, barks\, and best friends! 🍻🐾Blazin’ Trails Bottle Babies is heading to Raleigh Beer Garden with a pack of adorable\, adoptable pups — and they can’t wait to meet you! Come grab a cold drink\, enjoy the sunshine\, and fall in love with a furry friend who’s ready to hop into your heart (and maybe your car).Puppy kisses are free — but be warned: you just might leave with a new best friend! ❤️
URL:https://blazintrailsbottlebabies.org/event/puppy-meet-n-greet-at-raleigh-beer-garden/
LOCATION:Raleigh Beer Garden\, 614 Glenwood Ave\, Raleigh\, NC\, 27603
CATEGORIES:Adoptable Puppy Meet n Greet
END:VEVENT
BEGIN:VEVENT
DTSTART;TZID=America/New_York:20250510T140000
DTEND;TZID=America/New_York:20250510T170000
DTSTAMP:20260421T151852
CREATED:20250428T132948Z
LAST-MODIFIED:20250428T132948Z
UID:383-1746885600-1746896400@blazintrailsbottlebabies.org
SUMMARY:Morgan St Food Hall
DESCRIPTION:Foodies\, meet fluffies! 🍔🐾Blazin’ Trails Bottle Babies is popping up at Morgan Street Food Hall — and we’re bringing an extra side of adorable with us! Come grab your favorite bites from the amazing vendors\, then swing by to cuddle our rescue pups and maybe even meet your perfect match.Good food\, cold drinks\, and puppy kisses? It’s basically the recipe for the best Saturday ever. 🐶❤️
URL:https://blazintrailsbottlebabies.org/event/morgan-st-food-hall/
LOCATION:Morgan St Food Hall\, 411 W. Morgan St\, Raleigh\, NC
CATEGORIES:Adoptable Puppy Meet n Greet
END:VEVENT
BEGIN:VEVENT
DTSTART;TZID=America/New_York:20250501T170000
DTEND;TZID=America/New_York:20250501T200000
DTSTAMP:20260421T151852
CREATED:20250428T131951Z
LAST-MODIFIED:20250428T131951Z
UID:376-1746118800-1746129600@blazintrailsbottlebabies.org
SUMMARY:Yappy Hour at Roshambo Beverage Company
DESCRIPTION:Sip\, snuggle\, and save a life! 🍻🐾Join us for Yappy Hour at Roshambo Beverage Company — where the drinks are cold\, the puppies are adorable\, and your new best friend is waiting to meet you! Come grab a craft brew\, cuddle some precious rescue pups\, and maybe even find the furry soulmate you didn’t know you needed.Warning: Excessive puppy kisses highly likely. ❤️
URL:https://blazintrailsbottlebabies.org/event/yappy-hour-at-roshambo-beverage-company/
LOCATION:Roshambo Beverage Company\, 231 East St\, Raleigh\, NC\, 27601
CATEGORIES:Adoptable Puppy Meet n Greet
END:VEVENT
BEGIN:VEVENT
DTSTART;TZID=America/New_York:20250419T130000
DTEND;TZID=America/New_York:20250419T170000
DTSTAMP:20260421T151852
CREATED:20250323T183428Z
LAST-MODIFIED:20250324T152638Z
UID:355-1745067600-1745082000@blazintrailsbottlebabies.org
SUMMARY:Puppies & Pints Adoption Event at Raleigh Beer Garden!
DESCRIPTION:Join Blazin’ Trails Bottle Babies each month for Puppies & Pints at Raleigh Beer Garden! Stop by between 1–5 PM to meet our sweet\, adoptable puppies and learn how you can be part of their rescue journey. Whether you’re looking to adopt\, foster\, or simply cuddle a few pups while sipping a cold drink\, this is the perfect way to spend your Saturday. \nGreat beer. Even better company. Life-saving impact.
URL:https://blazintrailsbottlebabies.org/event/puppies-pints-adoption-event-at-raleigh-beer-garden/
LOCATION:Raleigh Beer Garden\, 614 Glenwood Ave\, Raleigh\, NC\, 27603
CATEGORIES:Adoptable Puppy Meet n Greet
ATTACH;FMTTYPE=image/jpeg:https://blazintrailsbottlebabies.org/wp-content/uploads/2025/03/476034021_122226072038030947_2242004412316644794_n.jpg
END:VEVENT
BEGIN:VEVENT
DTSTART;TZID=America/New_York:20250403T170000
DTEND;TZID=America/New_York:20250403T200000
DTSTAMP:20260421T151852
CREATED:20250323T200904Z
LAST-MODIFIED:20250323T200904Z
UID:359-1743699600-1743710400@blazintrailsbottlebabies.org
SUMMARY:Yappy Hour at Roshambo!
DESCRIPTION:Tired of coworkers but never tired of puppies? SAME. 🐾Join us for Yappy Hour at Roshambo—your new favorite after-work tradition featuring craft drinks and adoptable pups from Blazin’ Trails Bottle Babies! \nWe’re bringing the wag to your workweek with:🍻 Cold beverages🐶 Warm puppy bellies💬 Zero awkward Zoom calls❤️ And a chance to adopt your new best friend \nWhether you’re ready to adopt\, foster\, or just vibe with puppies\, this is your sign to skip the couch and come hang out with us instead. \nNo PowerPoint presentations. Just puppy power.
URL:https://blazintrailsbottlebabies.org/event/yappy-hour-at-roshambo/
LOCATION:Roshambo Beverage Company\, 231 East St\, Raleigh\, NC\, 27601
CATEGORIES:Adoptable Puppy Meet n Greet
END:VEVENT
END:VCALENDAR