BEGIN:VCALENDAR
VERSION:2.0
PRODID:-//Blazin’ Trails Bottle Babies - ECPv6.15.20//NONSGML v1.0//EN
CALSCALE:GREGORIAN
METHOD:PUBLISH
X-ORIGINAL-URL:https://blazintrailsbottlebabies.org
X-WR-CALDESC:Events for Blazin’ Trails Bottle Babies
REFRESH-INTERVAL;VALUE=DURATION:PT1H
X-Robots-Tag:noindex
X-PUBLISHED-TTL:PT1H
BEGIN:VTIMEZONE
TZID:America/New_York
BEGIN:DAYLIGHT
TZOFFSETFROM:-0500
TZOFFSETTO:-0400
TZNAME:EDT
DTSTART:20250309T070000
END:DAYLIGHT
BEGIN:STANDARD
TZOFFSETFROM:-0400
TZOFFSETTO:-0500
TZNAME:EST
DTSTART:20251102T060000
END:STANDARD
BEGIN:DAYLIGHT
TZOFFSETFROM:-0500
TZOFFSETTO:-0400
TZNAME:EDT
DTSTART:20260308T070000
END:DAYLIGHT
BEGIN:STANDARD
TZOFFSETFROM:-0400
TZOFFSETTO:-0500
TZNAME:EST
DTSTART:20261101T060000
END:STANDARD
BEGIN:DAYLIGHT
TZOFFSETFROM:-0500
TZOFFSETTO:-0400
TZNAME:EDT
DTSTART:20270314T070000
END:DAYLIGHT
BEGIN:STANDARD
TZOFFSETFROM:-0400
TZOFFSETTO:-0500
TZNAME:EST
DTSTART:20271107T060000
END:STANDARD
END:VTIMEZONE
BEGIN:VEVENT
DTSTART;TZID=America/New_York:20260425T110000
DTEND;TZID=America/New_York:20260425T150000
DTSTAMP:20260421T125708
CREATED:20260318T150656Z
LAST-MODIFIED:20260318T150656Z
UID:1410-1777114800-1777129200@blazintrailsbottlebabies.org
SUMMARY:Canine Field Day
DESCRIPTION:Join us for Canine Field Day on Saturday\, April 25\, 2026\, from 11:00 AM to 3:00 PM at Rock Quarry Park\, 701 Stadium Dr. \nThis fun community event is a chance for dogs and their people to enjoy a day in the park together. Activities will include an agility course\, Frisbee catch\, ball fetch area\, bobbing for treats\, a treasure hunt\, and more\, with options for all energy levels. Guests can also browse the pet market and grab a bite from local food trucks throughout the day. \nBlazin’ Trails Bottle Babies will be there with adoptable puppies. Stop by our booth to meet some of the puppies in our care\, learn more about our rescue\, and talk with us about adoption\, fostering\, and ways to support orphaned newborn puppies. \nWe would love to see you there for an afternoon of fun\, community\, and puppies. \nEvent Details\nSaturday\, April 25\, 202611:00 AM – 3:00 PMRock Quarry Park701 Stadium Dr.
URL:https://blazintrailsbottlebabies.org/event/canine-field-day/
LOCATION:North Carolina
CATEGORIES:Adoptable Puppy Meet n Greet,Community Events
END:VEVENT
BEGIN:VEVENT
DTSTART;TZID=America/New_York:20260426T120000
DTEND;TZID=America/New_York:20260426T180000
DTSTAMP:20260421T125709
CREATED:20251229T061101Z
LAST-MODIFIED:20260406T192418Z
UID:1024-1777204800-1777226400@blazintrailsbottlebabies.org
SUMMARY:Unleashed Spring Fling @ Koka Booth Amphitheatre
DESCRIPTION:Spring is in the air—and it’s time to get unleashed! 🌸🐾 \nJoin us at the beautiful Koka Booth Amphitheatre for Unleashed Spring Fling\, a lively\, dog-friendly celebration filled with sunshine\, community\, and plenty of tail-wagging fun. This outdoor favorite brings together animal lovers\, local vendors\, rescues\, and families for a day that celebrates everything we love about spring and our four-legged friends. \nBlazin’ Trails Bottle Babies will be there with adorable\, adoptable puppies\, ready for snuggles and hoping to meet their forever families. Stop by our booth\, say hello\, and soak up the joy that only puppies can bring. \nExpect vibrant spring vibes\, great food\, unique vendors\, and a whole lot of happy dogs in one of the Triangle’s most beautiful outdoor venues. \nCome stroll\, shop\, snuggle\, and celebrate spring with us—we’ll be easy to spot and even easier to fall in love with.
URL:https://blazintrailsbottlebabies.org/event/unleashed-spring-fling-koka-booth-amphitheatre/
LOCATION:Koka Booth Ampitheatre\, 8003 Regecy Parkway\, Cary
CATEGORIES:Adoptable Puppy Meet n Greet,Community Events
ATTACH;FMTTYPE=image/jpeg:https://blazintrailsbottlebabies.org/wp-content/uploads/2025/12/SF-2026-Graphic.jpg
END:VEVENT
END:VCALENDAR