BEGIN:VCALENDAR
VERSION:2.0
PRODID:-//Blazin’ Trails Bottle Babies - ECPv6.15.20//NONSGML v1.0//EN
CALSCALE:GREGORIAN
METHOD:PUBLISH
X-ORIGINAL-URL:https://blazintrailsbottlebabies.org
X-WR-CALDESC:Events for Blazin’ Trails Bottle Babies
REFRESH-INTERVAL;VALUE=DURATION:PT1H
X-Robots-Tag:noindex
X-PUBLISHED-TTL:PT1H
BEGIN:VTIMEZONE
TZID:America/New_York
BEGIN:DAYLIGHT
TZOFFSETFROM:-0500
TZOFFSETTO:-0400
TZNAME:EDT
DTSTART:20250309T070000
END:DAYLIGHT
BEGIN:STANDARD
TZOFFSETFROM:-0400
TZOFFSETTO:-0500
TZNAME:EST
DTSTART:20251102T060000
END:STANDARD
BEGIN:DAYLIGHT
TZOFFSETFROM:-0500
TZOFFSETTO:-0400
TZNAME:EDT
DTSTART:20260308T070000
END:DAYLIGHT
BEGIN:STANDARD
TZOFFSETFROM:-0400
TZOFFSETTO:-0500
TZNAME:EST
DTSTART:20261101T060000
END:STANDARD
BEGIN:DAYLIGHT
TZOFFSETFROM:-0500
TZOFFSETTO:-0400
TZNAME:EDT
DTSTART:20270314T070000
END:DAYLIGHT
BEGIN:STANDARD
TZOFFSETFROM:-0400
TZOFFSETTO:-0500
TZNAME:EST
DTSTART:20271107T060000
END:STANDARD
END:VTIMEZONE
BEGIN:VEVENT
DTSTART;TZID=America/New_York:20260301T103000
DTEND;TZID=America/New_York:20260301T120000
DTSTAMP:20260421T140907
CREATED:20260224T134713Z
LAST-MODIFIED:20260224T134713Z
UID:1376-1772361000-1772366400@blazintrailsbottlebabies.org
SUMMARY:Crank Arm Durham: PUPPY Yoga
DESCRIPTION:Join us for a yoga session with adoptable puppies at Crank Arm Brewing – DURHAM! \nThis event is $35 and covers your yoga class\, some puppy love\, a $20 donation to Blazin’ Trails Bottle Babies\, and your beer afterwards! \nBlazin’ Trails Bottle Babies rescues and cares for orphaned newborn puppies\, giving them the love and support they need to thrive and find forever homes. Now’s your chance to cuddle these adorable pups while enjoying a fun puppy yoga session! Stretch\, smile\, and soak up the puppy love—all while supporting a great cause!
URL:https://blazintrailsbottlebabies.org/event/crank-arm-durham-puppy-yoga/
LOCATION:Crank Arm Brewing- Durham\, 620 Fernway Ave\, Durham\, North Carolina\, 27701
CATEGORIES:Adoptable Puppy Meet n Greet,Community Events,Fundraising Event
ATTACH;FMTTYPE=image/avif:https://blazintrailsbottlebabies.org/wp-content/uploads/2025/07/highres_527985497.avif
END:VEVENT
BEGIN:VEVENT
DTSTART;TZID=America/New_York:20260307T140000
DTEND;TZID=America/New_York:20260307T170000
DTSTAMP:20260421T140907
CREATED:20251228T175508Z
LAST-MODIFIED:20251231T110350Z
UID:1013-1772892000-1772902800@blazintrailsbottlebabies.org
SUMMARY:Puppy Patio Party @ Morgan Street Food Hall
DESCRIPTION:Every 1st Saturday of the Month | 2-5 | Morgan St Food Hall \n It’s the ultimate combo: great food + adorable puppies = one unforgettable party! \nBlazin’ Trails Bottle Babies is taking over the patio at Morgan Street Food Hall every first Saturday of the month with a pack of our sweetest\, snuggliest adoptable pups. Come grab your favorite bites from the incredible food hall vendors\, sip something cold\, and let the puppies do what they do best—steal hearts. ❤️ \n✨ What’s waiting for you is a patio full of energy\, amazing food and drinks\, puppy cuddles and kisses\, and the chance to meet your future best friend—all wrapped up in the best community vibes Raleigh has to offer. \nBring your friends\, bring your appetite\, and make it a monthly tradition where tails wag\, plates are full\, and memories are made. We can’t wait to see you there!
URL:https://blazintrailsbottlebabies.org/event/puppy-patio-party-morgan-street-food-hall-2/
LOCATION:Morgan St Food Hall\, 411 W. Morgan St\, Raleigh\, NC
CATEGORIES:Adoptable Puppy Meet n Greet
ATTACH;FMTTYPE=image/jpeg:https://blazintrailsbottlebabies.org/wp-content/uploads/2025/12/puppy-patio-party.jpg
END:VEVENT
BEGIN:VEVENT
DTSTART;TZID=America/New_York:20260321T130000
DTEND;TZID=America/New_York:20260321T160000
DTSTAMP:20260421T140907
CREATED:20251228T174516Z
LAST-MODIFIED:20260118T195335Z
UID:1006-1774098000-1774108800@blazintrailsbottlebabies.org
SUMMARY:Pups n’ Pints @ Raleigh Beer Garden
DESCRIPTION:Every 3rd Saturday | 1 – 4 PM | 614 Glenwood Ave\, Raleigh \nGood beer. Great people. Adorable puppies. \nJoin Blazin’ Trails Bottle Babies every third Saturday for Pups n’ Pints at Raleigh Beer Garden! We’re bringing a crew of adorable\, adoptable puppies to one of Raleigh’s favorite spots for an afternoon full of good vibes\, great beer\, and puppy snuggles. \nGrab a pint\, enjoy the patio\, and meet puppies who are ready to charm their way straight into your heart. Whether you’re dreaming of adoption or just here for the cuddles\, this is the kind of afternoon that makes everything better. ❤️ \nPuppy kisses are complimentary. Falling in love is encouraged. \nMake it your new monthly tradition — we’ll see you at Pups n’ Pints!
URL:https://blazintrailsbottlebabies.org/event/pups-n-pints-raleigh-beer-garden-3/
LOCATION:Raleigh Beer Garden\, 614 Glenwood Ave\, Raleigh\, NC\, 27603
CATEGORIES:Adoptable Puppy Meet n Greet
ATTACH;FMTTYPE=image/jpeg:https://blazintrailsbottlebabies.org/wp-content/uploads/2025/12/3rd-Saturday-of-every-month.jpg
END:VEVENT
END:VCALENDAR